BEGIN:VCALENDAR
VERSION:2.0
PRODID:-//ChamberMaster//Event Calendar 2.0//EN
METHOD:PUBLISH
X-PUBLISHED-TTL:P3D
REFRESH-INTERVAL:P3D
CALSCALE:GREGORIAN
BEGIN:VEVENT
DTSTART:20241214T170000Z
DTEND:20241214T190000Z
X-MICROSOFT-CDO-ALLDAYEVENT:FALSE
SUMMARY:Santa at Croix View Orthodontics
DESCRIPTION:Join Croix View Orthodontics this Holiday season for pictures with Santa & special guest Mrs. Claus.\n\nOrnament Making\, Coloring\, Coffee\, Cookies and milk provided at no cost to you!
X-ALT-DESC;FMTTYPE=text/html:Join Croix View Orthodontics this Holiday season for pictures with Santa &amp\; special guest Mrs. Claus.<br />\nOrnament Making\, Coloring\, Coffee\, Cookies and milk provided at no cost to you!
LOCATION:Croix View Orthodontics 1820 Market Drive Stillwater\, MN 55082
UID:e.257.38936
SEQUENCE:3
DTSTAMP:20260422T173203Z
URL:https://greaterstillwaterchamber.com/events/details/santa-at-croix-view-orthodontics-38936
END:VEVENT

END:VCALENDAR
