BEGIN:VCALENDAR
VERSION:2.0
PRODID:-//ChamberMaster//Event Calendar 2.0//EN
METHOD:PUBLISH
X-PUBLISHED-TTL:P3D
REFRESH-INTERVAL:P3D
CALSCALE:GREGORIAN
BEGIN:VEVENT
DTSTART;VALUE=DATE:20240919
DTEND;VALUE=DATE:20240923
TRANSP:TRANSPARENT
X-MICROSOFT-CDO-ALLDAYEVENT:TRUE
SUMMARY:River Valley Yoga Festival
DESCRIPTION:River Valley Yoga Festival is multi-day\, outdoor event featuring yoga\, meditation\, forest bathing\, sound healing\, wisdom talks and more. \n\n\n\nTHE SETTING.\n\nHistoric Stillwater is the birthplace of Minnesota and a destination unto its own. Boasting a historic downtown with quaint shops\, locally sourced eateries and the nationally designated Wild and Scenic St. Croix River\, you are destined to find peace\, tranquility and activities that ignite your soul. \n\n\n\nThe Festival itself is set on a private\, historic farm surrounded by 80 acres of wildflowers\, ancient pines and majestic trees. The Farm is located just minutes from downtown Stillwater.\n\n\n\nTHE FESTIVAL.\n\nOver the course of four days\, attendees will gather to enjoy a variety of classes\, workshops and activities hosted at the farm. When not attending a class or workshop\, attendees can stroll through the Vendor Market or along the paths The Farm has to offer. There is also ample space to lounge on the patio\, by the pond or under one of many giant oak trees.\n\n\n\n* TICKETS are PRE-SALE ONLY *\n\n\n\nEvent happens rain or shine.\n\nTickets are non-refundable but are fully transferrable.\n\n\n\nVisit the website to learn more.
X-ALT-DESC;FMTTYPE=text/html:River Valley Yoga Festival is multi-day\, outdoor event featuring yoga\, meditation\, forest bathing\, sound healing\, wisdom talks and more.&nbsp\;<br />\n<br />\nTHE SETTING.<br />\nHistoric Stillwater is the birthplace of Minnesota and a destination unto its own. Boasting a historic downtown with quaint shops\, locally sourced eateries and the nationally designated Wild and Scenic St. Croix River\, you are destined to find peace\, tranquility and activities that ignite your soul.&nbsp\;<br />\n<br />\nThe Festival itself is set on a private\, historic farm surrounded by 80 acres of wildflowers\, ancient pines and majestic trees. The Farm is located just minutes from downtown Stillwater.<br />\n<br />\nTHE FESTIVAL.<br />\nOver the course of four days\, attendees will gather to enjoy a variety of classes\, workshops and activities hosted at the farm. When not attending a class or workshop\, attendees can stroll through the Vendor Market or along the paths The Farm has to offer. There is also ample space to lounge on the patio\, by the pond or under one of many giant oak trees.<br />\n<br />\n* TICKETS are PRE-SALE ONLY *<br />\n<br />\nEvent happens rain or shine.<br />\nTickets are non-refundable but are fully transferrable.<br />\n<br />\nVisit the website to learn more.&nbsp\;
LOCATION:11626 Otchipwe Av N Stillwater\, MN 55082
UID:e.257.38664
SEQUENCE:3
DTSTAMP:20260422T193022Z
URL:https://greaterstillwaterchamber.com/events/details/river-valley-yoga-festival-38664
END:VEVENT

END:VCALENDAR
