BEGIN:VCALENDAR
VERSION:2.0
PRODID:-//ChamberMaster//Event Calendar 2.0//EN
METHOD:PUBLISH
X-PUBLISHED-TTL:P3D
REFRESH-INTERVAL:P3D
CALSCALE:GREGORIAN
BEGIN:VEVENT
DTSTART:20251113T000000Z
DTEND:20251113T020000Z
X-MICROSOFT-CDO-ALLDAYEVENT:FALSE
SUMMARY:River Mixer - Wild Rivers Conservancy + MELT Pizza Company
DESCRIPTION:Join Wild Rivers Conservancy for River Mixer\, a casual get-together where supporters can connect over a drink and learn more about the mission of the Conservancy. Meet Conservancy staff\, hear updates on projects and programs\, and discover ways to get involved   whether you're a longtime supporter or new to the Conservancy\, River Mixer is a great way to raise a glass to our wild and scenic rivers!\n\n \n\nOn November 12th\, we're teaming up with Melt Pizza Company   join us for some delicious Detroit-style pizza\, craft cocktails\, and an opportunity to mingle with fellow river lovers and Conservancy staff. Even better\, a portion of the proceeds from the night will be generously donated to support the Conservancy.\n\n \n\nWe hope to see you there for some good company and great food!
X-ALT-DESC;FMTTYPE=text/html:<div>Join Wild Rivers Conservancy for River Mixer\, a casual get-together where supporters can connect over a drink and learn more about the mission of the Conservancy. Meet Conservancy staff\, hear updates on projects and programs\, and discover ways to get involved &ndash\; whether you&rsquo\;re a longtime supporter or new to the Conservancy\, River Mixer is a great way to raise a glass to our wild and scenic rivers!</div>\n\n<div>&nbsp\;</div>\n\n<div>On November 12th\, we&rsquo\;re teaming up with&nbsp\;<a href="https://meltpizzacompany.com/" style="box-sizing: border-box\; background-color: transparent\; color: rgb(20\, 24\, 39)\; text-decoration-line: none\; border-bottom: 1px solid rgb(51\, 74\, 255)\; transition: color 0.2s\;">Melt Pizza Company</a>&nbsp\;&ndash\; join us for some delicious Detroit-style pizza\, craft cocktails\, and an opportunity to mingle with fellow river lovers and Conservancy staff. Even better\, a portion of the proceeds from the night will be generously donated to support the Conservancy.</div>\n\n<div style="text-align:center">&nbsp\;</div>\n\n<div>We hope to see you there for some good company and great food!</div>\n
LOCATION:Melt Pizza 112 Main St N Stillwater\, Minnesota
UID:e.257.46416
SEQUENCE:3
DTSTAMP:20260421T215840Z
URL:https://greaterstillwaterchamber.com/events/details/river-mixer-wild-rivers-conservancy-melt-pizza-company-46416
END:VEVENT

END:VCALENDAR
