BEGIN:VCALENDAR
VERSION:2.0
PRODID:-//ChamberMaster//Event Calendar 2.0//EN
METHOD:PUBLISH
X-PUBLISHED-TTL:P3D
REFRESH-INTERVAL:P3D
CALSCALE:GREGORIAN
BEGIN:VEVENT
DTSTART:20231231T220000Z
DTEND:20240101T060000Z
X-MICROSOFT-CDO-ALLDAYEVENT:FALSE
SUMMARY:New Years Eve Dining and Lodging in a Romantic Jacuzzi Room Suite
DESCRIPTION:Ring in the New Year at the The Historic Afton House Inn\n\nCelebrate Dining in the Wheel Room\, CURRENT Restaurant and Bar\n\nor Swirl Wine Bar.\n\n\n\nMusic in the Wheel Room and a complimentary champagne toast at midnight in CURRENT Restaurant and Bar\n\nFor Reservations Call 651-436-8883\n\nBook a Room with a Jacuzzi and Fireplace and stay the night.
X-ALT-DESC;FMTTYPE=text/html:<p style="text-align:center"><strong>Ring in the New Year at the The Historic Afton House Inn</strong></p>\n\n<p style="text-align:center"><strong>Celebrate Dining in the Wheel Room\, CURRENT Restaurant and Bar</strong></p>\n\n<p style="text-align:center"><strong>or Swirl Wine Bar.<br />\n<br />\nMusic in the Wheel Room and a complimentary champagne toast at midnight in CURRENT Restaurant and Bar</strong></p>\n\n<p style="text-align:center"><strong>For Reservations Call 651-436-8883</strong></p>\n\n<p style="text-align:center"><strong><a href="https://aftonhouseinn.com/" style="color: rgb(1\, 25\, 56)\; box-sizing: border-box\; text-decoration-line: none\; transition-property: color\, background-color\, border-color\; transition-duration: 0.2s\; transition-timing-function: linear\;">Book a Room with a Jacuzzi and Fireplace and stay the night.</a></strong></p>\n
LOCATION:The Afton House Inn 3291 St. Croix Trail South Afton\, MN 55001
UID:e.257.19598
SEQUENCE:3
DTSTAMP:20260422T021210Z
URL:https://greaterstillwaterchamber.com/events/details/ring-in-the-new-year-at-the-historic-afton-house-inn-and-current-12-31-2015-19598
END:VEVENT

END:VCALENDAR
