BEGIN:VCALENDAR
VERSION:2.0
PRODID:-//ChamberMaster//Event Calendar 2.0//EN
METHOD:PUBLISH
X-PUBLISHED-TTL:P3D
REFRESH-INTERVAL:P3D
CALSCALE:GREGORIAN
BEGIN:VEVENT
DTSTART:20240803T200000Z
DTEND:20240804T033000Z
X-MICROSOFT-CDO-ALLDAYEVENT:FALSE
SUMMARY:Relay for Life of Stillwater
DESCRIPTION:For over 30 yrs. we have come together to:\n\nCelebrate. Remember. Fight Back.\n\nWe ask that you invite your friends\, family\, and neighbors to join us on Saturday August 3rd.\n\nThere will be music\, dance performances\, a corn hole tournament\, food trucks\, and a variety of other family activities including the touching Luminaria ceremony at night.\n\nRelay For Life is more than a walk   it's a chance to come together in your local community to celebrate cancer survivors\, remember loved ones lost\, and fight back against every cancer as we come together for every life.\n\nBe a part of the global community of passionate supporters working to help end cancer as we know it\, for everyone.
X-ALT-DESC;FMTTYPE=text/html:<div>For over 30 yrs. we have come together to:<br />\nCelebrate. Remember. Fight Back.</div>\n\n<div>We ask that you invite your friends\, family\, and neighbors to join us on Saturday August 3rd.</div>\n\n<div>There will be music\, dance performances\, a corn hole tournament\, food trucks\, and a variety of other family activities including the touching Luminaria ceremony at night.</div>\n\n<div>Relay For Life is more than a walk &ndash\; it&rsquo\;s a chance to come together in your local community to celebrate cancer survivors\, remember loved ones lost\, and fight back against every cancer as we come together for every life.</div>\n\n<div>Be a part of the global community of passionate supporters working to help end cancer as we know it\, for everyone.</div>\n
LOCATION:Lowell Park 210 Water St Stillwater\, Mn 55082
UID:e.257.37213
SEQUENCE:3
DTSTAMP:20260422T190105Z
URL:https://greaterstillwaterchamber.com/events/details/relay-for-life-of-stillwater-08-03-2024-37213
END:VEVENT

END:VCALENDAR
