BEGIN:VCALENDAR
VERSION:2.0
PRODID:-//ChamberMaster//Event Calendar 2.0//EN
METHOD:PUBLISH
X-PUBLISHED-TTL:P3D
REFRESH-INTERVAL:P3D
CALSCALE:GREGORIAN
BEGIN:VEVENT
DTSTART:20191107T000000Z
DTEND:20191107T020000Z
X-MICROSOFT-CDO-ALLDAYEVENT:FALSE
SUMMARY:Relationships First: Creating Connections That Help Youth Thrive
DESCRIPTION:Relationships are at the heart of what youth need to learn\, grow\, and thrive.  New research from Search Institute is showing that when young people experience positive relationships with adults they're more successful.  Please join us for an important conversation on how you can help support youth\, build their resilience\, and promote mental well-being.\n\nPresented in partnership with Lakeview Hospital\, Washington County\, CONNECT Washington County\, and Stillwater Area Public Schools' Community Education\nAgenda:\n\n6:00-6:30 Youth Support Systems Resource Fair\n\n6:30-7:30 Dr. Kent Pekel \n\n7:30-8:00 A second chance to visit our resource fair
X-ALT-DESC;FMTTYPE=text/html:Relationships are at the heart of what youth need to learn\, grow\, and thrive.&nbsp\; New research from Search Institute is showing that when young people experience positive relationships with adults they&rsquo\;re more successful.&nbsp\; Please join us for an important conversation on how you can help support youth\, build their resilience\, and promote mental well-being.<br />\n<em>Presented in partnership with Lakeview Hospital\, Washington County\, CONNECT Washington County\, and Stillwater Area Public Schools&#39\; Community Education</em>\n<div>Agenda:</div>\n\n<div>6:00-6:30 Youth Support Systems Resource Fair</div>\n\n<div>6:30-7:30 Dr. Kent Pekel&nbsp\;</div>\n\n<div>7:30-8:00 A second chance to visit our resource fair<br />\n&nbsp\;</div>\n
LOCATION:Stillwater Area High School Auditorium
UID:e.257.29997
SEQUENCE:3
DTSTAMP:20260422T085930Z
URL:https://greaterstillwaterchamber.com/events/details/relationships-first-creating-connections-that-help-youth-thrive-29997
END:VEVENT

END:VCALENDAR
