BEGIN:VCALENDAR
VERSION:2.0
PRODID:-//ChamberMaster//Event Calendar 2.0//EN
METHOD:PUBLISH
X-PUBLISHED-TTL:P3D
REFRESH-INTERVAL:P3D
CALSCALE:GREGORIAN
BEGIN:VEVENT
DTSTART:20240228T150000Z
DTEND:20240228T210000Z
X-MICROSOFT-CDO-ALLDAYEVENT:FALSE
SUMMARY:Red Cross Blood Drive
DESCRIPTION:Sign up now to donate:\n\n1-800-RED-CROSS or visit RedCrossBlood.org and enter "Bayport" to find St. Croix United Church (formerly People's Congregational Church).
X-ALT-DESC;FMTTYPE=text/html:<span style="background-color:rgb(255\, 255\, 255)\; color:rgb(51\, 51\, 51)\; font-family:sans-serif\,arial\,verdana\,trebuchet ms\; font-size:13px">Sign up now to donate:</span><br />\n<span style="background-color:rgb(255\, 255\, 255)\; color:rgb(51\, 51\, 51)\; font-family:sans-serif\,arial\,verdana\,trebuchet ms\; font-size:13px">1-800-RED-CROSS or visit RedCrossBlood.org and enter &quot\;Bayport&quot\; to find St. Croix United Church (formerly People&#39\;s Congregational Church).</span>
LOCATION:309 N Third St Bayport\, MN 55003
UID:e.257.37130
SEQUENCE:3
DTSTAMP:20260422T214007Z
URL:https://greaterstillwaterchamber.com/events/details/red-cross-blood-drive-37130
END:VEVENT

END:VCALENDAR
