BEGIN:VCALENDAR
VERSION:2.0
PRODID:-//ChamberMaster//Event Calendar 2.0//EN
METHOD:PUBLISH
X-PUBLISHED-TTL:P3D
REFRESH-INTERVAL:P3D
CALSCALE:GREGORIAN
BEGIN:VEVENT
DTSTART:20231222T150000Z
DTEND:20231222T210000Z
X-MICROSOFT-CDO-ALLDAYEVENT:FALSE
SUMMARY:Red Cross Blood Drive
DESCRIPTION:Give something that means something this holiday season!\n\n\n\nSign up now to donate:\n\n1-800-RED-CROSS or visit RedCrossBlood.org and enter "Bayport" to find St. Croix United Church (formerly People's Congregational Church).
X-ALT-DESC;FMTTYPE=text/html:Give something that means something this holiday season!<br />\n<br />\nSign up now to donate:<br />\n1-800-RED-CROSS or visit RedCrossBlood.org and enter &quot\;Bayport&quot\; to find St. Croix United Church (formerly People&#39\;s Congregational Church).
LOCATION:St. Croix United Church (formerly People's Congregational Church) 309 N. Third St Bayport\, MN 55003
UID:e.257.37098
SEQUENCE:3
DTSTAMP:20260423T003333Z
URL:https://greaterstillwaterchamber.com/events/details/red-cross-blood-drive-12-22-2023-37098
END:VEVENT

END:VCALENDAR
