BEGIN:VCALENDAR
VERSION:2.0
PRODID:-//ChamberMaster//Event Calendar 2.0//EN
METHOD:PUBLISH
X-PUBLISHED-TTL:P3D
REFRESH-INTERVAL:P3D
CALSCALE:GREGORIAN
BEGIN:VEVENT
DTSTART:20240606T140000Z
DTEND:20240606T200000Z
X-MICROSOFT-CDO-ALLDAYEVENT:FALSE
SUMMARY:Red Cross Blood Drive
DESCRIPTION:Red Cross Blood Drive \n\nSt. Croix United Church\n\nJune 6th\, 9-3pm\n\n\n\nPlease call 1-800-RED CROSS \n\nor visit RedCrossBlood.org\n\nto schedule your donation.
X-ALT-DESC;FMTTYPE=text/html:Red Cross Blood Drive&nbsp\;<br />\nSt. Croix United Church<br />\nJune 6th\, 9-3pm<br />\n<br />\nPlease call 1-800-RED CROSS&nbsp\;<br />\nor visit RedCrossBlood.org<br />\nto schedule your donation.
LOCATION:St. Croix United Church 309 N. Third St Bayport\, MN 55003
UID:e.257.37217
SEQUENCE:3
DTSTAMP:20260422T162620Z
URL:https://greaterstillwaterchamber.com/events/details/red-cross-blood-drive-06-06-2024-37217
END:VEVENT

END:VCALENDAR
