BEGIN:VCALENDAR
VERSION:2.0
PRODID:-//ChamberMaster//Event Calendar 2.0//EN
METHOD:PUBLISH
X-PUBLISHED-TTL:P3D
REFRESH-INTERVAL:P3D
CALSCALE:GREGORIAN
BEGIN:VEVENT
DTSTART:20221126T163000Z
DTEND:20221126T173000Z
X-MICROSOFT-CDO-ALLDAYEVENT:FALSE
SUMMARY:Rec Soccer Winter Session 1
DESCRIPTION:REC Soccer Grades 4-7\n\n\n \n\n\nProgram for 4th -7th graders who are looking to improve their foundational soccer skills\, gain more experience in small sided situations.  This is a great environment for players who want to continue to grow as a soccer player. \n \n\n\nST. CROIX REC\n\n\n\nLearn. Practice. Enjoy.\n\n\n \n\n\nSt. Croix Soccer Club offers fun programs for players 4-11 years old.  Fundamental skills introduced and practiced include individual foot skills\, dribbling\, passing\, shooting\, scrimmages and team play with emphasis on sportsmanship. \nRegister here
X-ALT-DESC;FMTTYPE=text/html:<div style="background:transparent\; border:0px\; padding:0px">\n<div style="background:transparent\; border:0px\; padding:0px">\n<div style="background:transparent\; border:0px\; padding:0px">\n<h1><span style="color:rgb(45\, 45\, 45)"><em><strong><span style="font-family:poppins-semibold\,poppins\,sans-serif">REC Soccer Grades 4-7</span></strong></em></span></h1>\n</div>\n\n<div>&nbsp\;</div>\n\n<div style="background:transparent\; border:0px\; padding:0px">\n<h1><span style="color:rgb(45\, 45\, 45)"><span style="font-family:poppins-semibold\,poppins\,sans-serif">Program for 4th -7th graders who are looking to improve their foundational soccer skills\, gain more experience in small sided situations. &nbsp\;This is a great environment for players who want to continue to grow as a soccer player.&nbsp\;</span></span></h1>\n&nbsp\;\n\n<div style="background:transparent\; border:0px\; padding:0px">\n<h1><span style="color:rgb(var(--color_11))"><em><strong><span style="font-family:poppins-semibold\,poppins\,sans-serif">ST. CROIX REC</span></strong></em></span></h1>\n</div>\n\n<div style="background:transparent\; border:0px\; padding:0px">\n<h1><span style="color:rgb(var(--color_11))"><em><strong><span style="font-family:poppins-semibold\,poppins\,sans-serif">Learn. Practice. Enjoy.</span></strong></em></span></h1>\n</div>\n\n<div>&nbsp\;</div>\n\n<div style="background:transparent\; border:0px\; padding:0px">\n<h1><span style="color:rgb(var(--color_11))"><span style="font-family:poppins-semibold\,poppins\,sans-serif">St. Croix Soccer Club offers fun programs for players 4-11 years old.&nbsp\; Fundamental skills introduced and practiced include individual foot skills\, dribbling\, passing\, shooting\, scrimmages and team play with emphasis on sportsmanship.&nbsp\;</span></span></h1>\n<a href="https://system.gotsport.com/programs/462888X24?reg_role=player">Register here&nbsp\;</a></div>\n</div>\n</div>\n</div>\n
LOCATION:St Croix Valley Recreation Center
UID:e.257.35662
SEQUENCE:3
DTSTAMP:20260423T190017Z
URL:https://greaterstillwaterchamber.com/events/details/rec-soccer-winter-session-1-11-26-2022-35662
END:VEVENT

END:VCALENDAR
