BEGIN:VCALENDAR
VERSION:2.0
PRODID:-//ChamberMaster//Event Calendar 2.0//EN
METHOD:PUBLISH
X-PUBLISHED-TTL:P3D
REFRESH-INTERVAL:P3D
CALSCALE:GREGORIAN
BEGIN:VEVENT
DTSTART:20231216T190000Z
DTEND:20231216T220000Z
X-MICROSOFT-CDO-ALLDAYEVENT:FALSE
SUMMARY:Pups with Santa Patio Party
DESCRIPTION:Join us on the Patio at The Freight House for pictures with Santa and your furry friends! Heaters and Firepits will be available on our patio.
X-ALT-DESC;FMTTYPE=text/html:Join us on the Patio at The Freight House for pictures with Santa and your furry friends! Heaters and Firepits will be available on our patio.
LOCATION:The Freight House 305 Water Street South Stillwater\, MN 55082
UID:e.257.36951
SEQUENCE:3
DTSTAMP:20260423T003212Z
URL:https://greaterstillwaterchamber.com/events/details/pups-with-santa-patio-party-36951
END:VEVENT

END:VCALENDAR
