BEGIN:VCALENDAR
VERSION:2.0
PRODID:-//ChamberMaster//Event Calendar 2.0//EN
METHOD:PUBLISH
X-PUBLISHED-TTL:P3D
REFRESH-INTERVAL:P3D
CALSCALE:GREGORIAN
BEGIN:VEVENT
DTSTART:20191130T150000Z
DTEND:20191130T190000Z
X-MICROSOFT-CDO-ALLDAYEVENT:FALSE
SUMMARY:Pop Up Marketplace at LORA Hotel
DESCRIPTION:Join us on Small Business Saturday\n\nfor our first Pop-Up Marketplace in the Lobby at Lora.\n\nBrowse gift ideas from local vendors and enjoy complimentary cookies and a hot cocoa bar.
X-ALT-DESC;FMTTYPE=text/html:Join us on Small Business Saturday<br />\nfor our first Pop-Up Marketplace in the Lobby at Lora.<br />\nBrowse gift ideas from local vendors and enjoy complimentary cookies and a hot cocoa bar.
LOCATION:
UID:e.257.30060
SEQUENCE:3
DTSTAMP:20260422T090303Z
URL:https://greaterstillwaterchamber.com/events/details/pop-up-marketplace-at-lora-hotel-30060
END:VEVENT

END:VCALENDAR
