BEGIN:VCALENDAR
VERSION:2.0
PRODID:-//ChamberMaster//Event Calendar 2.0//EN
METHOD:PUBLISH
X-PUBLISHED-TTL:P3D
REFRESH-INTERVAL:P3D
CALSCALE:GREGORIAN
BEGIN:VEVENT
DTSTART:20201023T000000Z
DTEND:20201023T010000Z
X-MICROSOFT-CDO-ALLDAYEVENT:FALSE
SUMMARY:Perennial and Medicinal Herb Gardens for Home Landscapes
DESCRIPTION:Perennials aren't just for showy flowers\, or even pollinators. There is a wide diversity of culinary and medicinal herbs that we can grow as perennials here in Minnesota. This translates to beauty in the garden that we can eat\, drink as iced or hot tea\, and create healing salves and remedies with. Join local landscape designer Pete Widin for an exploration of these exciting plants and how to best use them in your own yard for seasonal interest and lasting health for your family.
X-ALT-DESC;FMTTYPE=text/html:<span style="color:rgb(34\, 34\, 34)\; font-family:arial\,helvetica\,sans-serif\; font-size:small">Perennials aren&rsquo\;t just for showy flowers\, or even pollinators. There is a wide diversity of culinary and medicinal herbs that we can grow as perennials here in Minnesota. This translates to beauty in the garden that we can eat\, drink as iced or hot tea\, and create healing salves and remedies with. Join local landscape designer Pete Widin for an exploration of these exciting plants and how to best use them in your own yard for seasonal interest and lasting health for your family.</span>
LOCATION:Zoom video\, hosted by River Market Community Coop
UID:e.257.31494
SEQUENCE:3
DTSTAMP:20260421T151208Z
URL:https://greaterstillwaterchamber.com/events/details/perennial-and-medicinal-herb-gardens-for-home-landscapes-31494
END:VEVENT

END:VCALENDAR
