BEGIN:VCALENDAR
VERSION:2.0
PRODID:-//ChamberMaster//Event Calendar 2.0//EN
METHOD:PUBLISH
X-PUBLISHED-TTL:P3D
REFRESH-INTERVAL:P3D
CALSCALE:GREGORIAN
BEGIN:VEVENT
DTSTART:20200501T000000Z
DTEND:20200501T010000Z
X-MICROSOFT-CDO-ALLDAYEVENT:FALSE
SUMMARY:Operatunity Theatre At Home
DESCRIPTION:Whether you are spending your social distancing time in your tux or your PJ's this is the event for you! Join us at 7:00 pm on Thursday\, April 30 for a live online concert.\n\n\n\nSnuggle up on the couch with your favorite snack\, drink\, and quarantine buddy and enjoy some of your favorite opera and musical theater hits.\n\n\n\nWe're featuring Stillwater Native\, soprano Solveig Neseth\, and pianist Joseph Fitzgerald performing live from Oklahoma City to lift our spirits and bring live music into our homes.\n\n\n\nRegister today for $20.
X-ALT-DESC;FMTTYPE=text/html:<span style="background-color:transparent\; color:rgb(0\, 0\, 0)\; font-family:arial\; font-size:10pt">Whether you are spending your social distancing time in your tux or your PJ&rsquo\;s this is the event for you! Join us at 7:00 pm on Thursday\, April 30 for a live online concert.<br />\n<br />\nSnuggle up on the couch with your favorite snack\, drink\, and quarantine buddy and enjoy some of your favorite opera and musical theater hits.<br />\n<br />\nWe&rsquo\;re featuring Stillwater Native\, soprano Solveig Neseth\, and pianist Joseph Fitzgerald performing live from Oklahoma City to lift our spirits and bring live music into our homes.<br />\n<br />\nRegister today for $20.&nbsp\; </span>
LOCATION:Snuggle up on the couch with your favorite snack\, drink\, and quarantine buddy and enjoy some of your favorite opera and musical theater hits.
UID:e.257.30732
SEQUENCE:3
DTSTAMP:20260422T024635Z
URL:https://greaterstillwaterchamber.com/events/details/operatunity-theatre-at-home-30732
END:VEVENT

END:VCALENDAR
