BEGIN:VCALENDAR
VERSION:2.0
PRODID:-//ChamberMaster//Event Calendar 2.0//EN
METHOD:PUBLISH
X-PUBLISHED-TTL:P3D
REFRESH-INTERVAL:P3D
CALSCALE:GREGORIAN
BEGIN:VEVENT
DTSTART:20250727T003000Z
DTEND:20250727T023000Z
X-MICROSOFT-CDO-ALLDAYEVENT:FALSE
SUMMARY:Opera on the River 2025
DESCRIPTION:Opera on the River is returning for the 7th time to its home on the banks of the St. Croix River in Lowell Park in downtown Stillwater! The Grand Concert is free and open to all. We encourage you to bring chairs\, blankets\, and picnic baskets to enjoy an evening in the park!\n\nThe evening will take the audience on a magical sunset trip down a river of music\, from lush\, romantic arias and comedic duets to rousing chorus numbers from some of the world's most beloved opera classics\, as well as fan-favorite musical theatre numbers.\n\nFeaturing:\n\nHailey Clark\, Soprano\n\nMeridian Prall\, Mezzo-Soprano\n\nJoseph Dennis\, Tenor\n\nReginald Smith\, Jr\, Bass-Baritone\n\nJoseph Li\, Conductor\n\nJennifer Eckes\, Emcee\n\nFREE TO ATTEND \n\nPurchase VIP Seating Tickets \n\n\n\nRain Location: Trinity Lutheran Church\, Stillwater\, MN
X-ALT-DESC;FMTTYPE=text/html:<p>Opera on the River is returning for the 7th time to its home on the banks of the St. Croix River in Lowell Park in downtown Stillwater! The Grand Concert is free and open to all. We encourage you to bring chairs\, blankets\, and picnic baskets to enjoy an evening in the park!</p>\n\n<p>The evening will take the audience on a magical sunset trip down a river of music\, from lush\, romantic arias and comedic duets to rousing chorus numbers from some of the world&#39\;s most beloved opera classics\, as well as fan-favorite musical theatre numbers.</p>\n\n<p>Featuring:<br />\nHailey Clark\, Soprano<br />\nMeridian Prall\, Mezzo-Soprano<br />\nJoseph Dennis\, Tenor<br />\nReginald Smith\, Jr\, Bass-Baritone<br />\nJoseph Li\, Conductor<br />\nJennifer Eckes\, Emcee</p>\n\n<p><strong>FREE TO ATTEND&nbsp\;</strong><br />\n<a href="http://secure.qgiv.com/for/2025svi/event/operaontheriver2025grandfestivalvipexperienceseatingtickets/" target="_blank">Purchase VIP Seating Tickets&nbsp\;</a><br />\n<br />\nRain Location: Trinity Lutheran Church\, Stillwater\, MN</p>\n
LOCATION:Lowell Park South
UID:e.257.43427
SEQUENCE:3
DTSTAMP:20260422T043209Z
URL:https://greaterstillwaterchamber.com/events/details/opera-on-the-river-2025-43427
END:VEVENT

END:VCALENDAR
