BEGIN:VCALENDAR
VERSION:2.0
PRODID:-//ChamberMaster//Event Calendar 2.0//EN
METHOD:PUBLISH
X-PUBLISHED-TTL:P3D
REFRESH-INTERVAL:P3D
CALSCALE:GREGORIAN
BEGIN:VEVENT
DTSTART:20251118T160000Z
DTEND:20251118T200000Z
X-MICROSOFT-CDO-ALLDAYEVENT:FALSE
SUMMARY:Open House: Sandhill Shores
DESCRIPTION:Celebrate the season with us!\n\n\n\nTour our beautiful luxury community\, savor fall desserts and refreshments\, and take home a complimentary pie and turkey   our way of saying thank you. *One complementary pie and turkey (voucher) available to the first 50 households. Offer valid for new prospective residents only.\n\n\n\nYour RSVP is appreciated\, though not required. RSVP at 651-615-6070 or events@sandhillshores.org
X-ALT-DESC;FMTTYPE=text/html:Celebrate the season with us!<br />\n<br />\nTour our beautiful luxury community\, savor fall desserts and refreshments\, and take home a complimentary pie and turkey &ndash\; our way of saying thank you. *One complementary pie and turkey (voucher) available to the first 50 households. Offer valid for new prospective residents only.<br />\n<br />\nYour RSVP is appreciated\, though not required. RSVP at 651-615-6070 or events@sandhillshores.org
LOCATION:Sandhill Shores 105 Bridgewater Way\, Stillwater\, MN 55082
UID:e.257.46625
SEQUENCE:3
DTSTAMP:20260421T215835Z
URL:https://greaterstillwaterchamber.com/events/details/open-house-sandhill-shores-46625
END:VEVENT

END:VCALENDAR
