BEGIN:VCALENDAR
VERSION:2.0
PRODID:-//ChamberMaster//Event Calendar 2.0//EN
METHOD:PUBLISH
X-PUBLISHED-TTL:P3D
REFRESH-INTERVAL:P3D
CALSCALE:GREGORIAN
BEGIN:VEVENT
DTSTART:20240601T180000Z
DTEND:20240601T210000Z
X-MICROSOFT-CDO-ALLDAYEVENT:FALSE
SUMMARY:Open House at Mathnasium of Stillwater
DESCRIPTION:Join us for a fun and educational open house at Mathnasium of Stillwater!  Learn more about our programs and activities while enjoying games and popcorn!
X-ALT-DESC;FMTTYPE=text/html:Join us for a fun and educational open house at Mathnasium of Stillwater!&nbsp\; Learn more about our programs and activities while enjoying games and popcorn!
LOCATION:5871 Neal Ave North Oak Park Heights\, MN
UID:e.257.37215
SEQUENCE:3
DTSTAMP:20260422T162705Z
URL:https://greaterstillwaterchamber.com/events/details/open-house-at-mathnasium-of-stillwater-06-01-2024-37215
END:VEVENT

END:VCALENDAR
