BEGIN:VCALENDAR
VERSION:2.0
PRODID:-//ChamberMaster//Event Calendar 2.0//EN
METHOD:PUBLISH
X-PUBLISHED-TTL:P3D
REFRESH-INTERVAL:P3D
CALSCALE:GREGORIAN
BEGIN:VEVENT
DTSTART:20231030T000000Z
DTEND:20231030T020000Z
X-MICROSOFT-CDO-ALLDAYEVENT:FALSE
SUMMARY:On Stage at the Freight House presents: Whole Lotta Led / A night of Led Zeppelin
DESCRIPTION:Whole Lotta Led / A Night of Led Zeppelin
X-ALT-DESC;FMTTYPE=text/html:<h1 style="margin-left:0px\; margin-right:0px">Whole Lotta Led / A Night of Led Zeppelin</h1>\n
LOCATION:
UID:e.257.36620
SEQUENCE:3
DTSTAMP:20260423T041525Z
URL:https://greaterstillwaterchamber.com/events/details/on-stage-at-the-freight-house-presents-whole-lotta-led-a-night-of-led-zeppelin-36620
END:VEVENT

END:VCALENDAR
