BEGIN:VCALENDAR
VERSION:2.0
PRODID:-//ChamberMaster//Event Calendar 2.0//EN
METHOD:PUBLISH
X-PUBLISHED-TTL:P3D
REFRESH-INTERVAL:P3D
CALSCALE:GREGORIAN
BEGIN:VEVENT
DTSTART:20231127T010000Z
DTEND:20231127T030000Z
X-MICROSOFT-CDO-ALLDAYEVENT:FALSE
SUMMARY:On Stage at the Freight House presents: WAREHOUSE / A Night of The Dave Matthews Band featuring Max Krauth
DESCRIPTION:WAREHOUSE / A Night of The Dave Matthews Band featuring Max Krauth
X-ALT-DESC;FMTTYPE=text/html:<span style="color:rgb(57\, 54\, 79)\; font-family:neue plak\,-apple-system\,blinkmacsystemfont\,roboto\,helvetica neue\,helvetica\,tahoma\,arial\,sans-serif\; font-size:14px">WAREHOUSE / A Night of The Dave Matthews Band featuring Max Krauth</span>
LOCATION:
UID:e.257.36627
SEQUENCE:3
DTSTAMP:20260423T020118Z
URL:https://greaterstillwaterchamber.com/events/details/on-stage-at-the-freight-house-presents-warehouse-a-night-of-the-dave-matthews-band-featuring-max-krauth-36627
END:VEVENT

END:VCALENDAR
