BEGIN:VCALENDAR
VERSION:2.0
PRODID:-//ChamberMaster//Event Calendar 2.0//EN
METHOD:PUBLISH
X-PUBLISHED-TTL:P3D
REFRESH-INTERVAL:P3D
CALSCALE:GREGORIAN
BEGIN:VEVENT
DTSTART:20231103T000000Z
DTEND:20231103T020000Z
X-MICROSOFT-CDO-ALLDAYEVENT:FALSE
SUMMARY:On Stage at the Freight House presents: The Lamont Cranston Band
DESCRIPTION:THE LAMONT CRANSTON BAND / The Legendary Minneapolis Giants featuring Pat Hayes and Bruce McCabe
X-ALT-DESC;FMTTYPE=text/html:<span style="color:rgb(57\, 54\, 79)\; font-family:neue plak\,-apple-system\,blinkmacsystemfont\,roboto\,helvetica neue\,helvetica\,tahoma\,arial\,sans-serif\; font-size:14px">THE LAMONT CRANSTON BAND / The Legendary Minneapolis Giants featuring Pat Hayes and Bruce McCabe</span>
LOCATION:
UID:e.257.36621
SEQUENCE:3
DTSTAMP:20260423T015904Z
URL:https://greaterstillwaterchamber.com/events/details/on-stage-at-the-freight-house-presents-the-lamont-cranston-band-36621
END:VEVENT

END:VCALENDAR
