BEGIN:VCALENDAR
VERSION:2.0
PRODID:-//ChamberMaster//Event Calendar 2.0//EN
METHOD:PUBLISH
X-PUBLISHED-TTL:P3D
REFRESH-INTERVAL:P3D
CALSCALE:GREGORIAN
BEGIN:VEVENT
DTSTART:20231117T010000Z
DTEND:20231117T030000Z
X-MICROSOFT-CDO-ALLDAYEVENT:FALSE
SUMMARY:On Stage at the Freight House presents: Southern Express Band
DESCRIPTION:THE SOUTHERN EXPRESS BAND / Classic and Powerful Southern Rock
X-ALT-DESC;FMTTYPE=text/html:<span style="color:rgb(57\, 54\, 79)\; font-family:neue plak\,-apple-system\,blinkmacsystemfont\,roboto\,helvetica neue\,helvetica\,tahoma\,arial\,sans-serif\; font-size:14px">THE SOUTHERN EXPRESS BAND / Classic and Powerful Southern Rock</span>
LOCATION:
UID:e.257.36625
SEQUENCE:3
DTSTAMP:20260423T015904Z
URL:https://greaterstillwaterchamber.com/events/details/on-stage-at-the-freight-house-presents-southern-express-band-36625
END:VEVENT

END:VCALENDAR
