BEGIN:VCALENDAR
VERSION:2.0
PRODID:-//ChamberMaster//Event Calendar 2.0//EN
METHOD:PUBLISH
X-PUBLISHED-TTL:P3D
REFRESH-INTERVAL:P3D
CALSCALE:GREGORIAN
BEGIN:VEVENT
DTSTART:20231106T010000Z
DTEND:20231106T030000Z
X-MICROSOFT-CDO-ALLDAYEVENT:FALSE
SUMMARY:On Stage at the Freight House presents: Silk and Soul / The Music of Boz Scaggs
DESCRIPTION:Mick Sterling Presents SILK AND SOUL / The Songs of Boz Scaggs
X-ALT-DESC;FMTTYPE=text/html:<span style="color:rgb(57\, 54\, 79)\; font-family:neue plak\,-apple-system\,blinkmacsystemfont\,roboto\,helvetica neue\,helvetica\,tahoma\,arial\,sans-serif\; font-size:14px">Mick Sterling Presents SILK AND SOUL / The Songs of Boz Scaggs</span>
LOCATION:
UID:e.257.36622
SEQUENCE:3
DTSTAMP:20260422T045858Z
URL:https://greaterstillwaterchamber.com/events/details/on-stage-at-the-freight-house-presents-silk-and-soul-the-music-of-boz-scaggs-36622
END:VEVENT

END:VCALENDAR
