BEGIN:VCALENDAR
VERSION:2.0
PRODID:-//ChamberMaster//Event Calendar 2.0//EN
METHOD:PUBLISH
X-PUBLISHED-TTL:P3D
REFRESH-INTERVAL:P3D
CALSCALE:GREGORIAN
BEGIN:VEVENT
DTSTART:20231113T010000Z
DTEND:20231113T030000Z
X-MICROSOFT-CDO-ALLDAYEVENT:FALSE
SUMMARY:On Stage at the Freight House presents: Rubber Soul / A tribute to the Beatles
DESCRIPTION:RUBBER SOUL / A Tribute to The Beatles
X-ALT-DESC;FMTTYPE=text/html:<span style="color:rgb(57\, 54\, 79)\; font-family:neue plak\,-apple-system\,blinkmacsystemfont\,roboto\,helvetica neue\,helvetica\,tahoma\,arial\,sans-serif\; font-size:14px">RUBBER SOUL / A Tribute to The Beatles</span>
LOCATION:
UID:e.257.36624
SEQUENCE:3
DTSTAMP:20260423T030034Z
URL:https://greaterstillwaterchamber.com/events/details/on-stage-at-the-freight-house-presents-rubber-soul-a-tribute-to-the-beatles-36624
END:VEVENT

END:VCALENDAR
