BEGIN:VCALENDAR
VERSION:2.0
PRODID:-//ChamberMaster//Event Calendar 2.0//EN
METHOD:PUBLISH
X-PUBLISHED-TTL:P3D
REFRESH-INTERVAL:P3D
CALSCALE:GREGORIAN
BEGIN:VEVENT
DTSTART:20231027T000000Z
DTEND:20231027T020000Z
X-MICROSOFT-CDO-ALLDAYEVENT:FALSE
SUMMARY:On Stage at the Freight House presents: One World - The Songs of Sting and the Police
DESCRIPTION:"Roxanne\," "Every Breath You Take\," "Don't Stand So Close to Me\," "Message In a Bottle\," "King of Pain\," "Every Little Thing She Does is Magic\," "If I Ever Lose My Faith in You\," "If You Love Somebody\, Set Them Free\," "Wrapped Around Your Finger" and many others! Featuring soaring vocals and great rock/reggae rhythms layered with saxophone\, keyboards and backing singers to round out a fully musically textured show that consistently sells out theaters and clubs in the Minneapolis area. Don't miss it!
X-ALT-DESC;FMTTYPE=text/html:<span style="color:rgb(111\, 114\, 135)\; font-family:neue plak\,-apple-system\,blinkmacsystemfont\,roboto\,helvetica neue\,helvetica\,tahoma\,arial\,sans-serif\; font-size:16px">&ldquo\;Roxanne\,&rdquo\; &ldquo\;Every Breath You Take\,&rdquo\; &ldquo\;Don&rsquo\;t Stand So Close to Me\,&rdquo\; &ldquo\;Message In a Bottle\,&rdquo\; &ldquo\;King of Pain\,&rdquo\; &ldquo\;Every Little Thing She Does is Magic\,&rdquo\; &ldquo\;If I Ever Lose My Faith in You\,&rdquo\; &ldquo\;If You Love Somebody\, Set Them Free\,&rdquo\; &ldquo\;Wrapped Around Your Finger&rdquo\; and many others! Featuring soaring vocals and great rock/reggae rhythms layered with saxophone\, keyboards and backing singers to round out a fully musically textured show that consistently sells out theaters and clubs in the Minneapolis area. Don&rsquo\;t miss it!</span>
LOCATION:
UID:e.257.36619
SEQUENCE:3
DTSTAMP:20260423T041524Z
URL:https://greaterstillwaterchamber.com/events/details/on-stage-at-the-freight-house-presents-one-world-the-songs-of-sting-and-the-police-36619
END:VEVENT

END:VCALENDAR
