BEGIN:VCALENDAR
VERSION:2.0
PRODID:-//ChamberMaster//Event Calendar 2.0//EN
METHOD:PUBLISH
X-PUBLISHED-TTL:P3D
REFRESH-INTERVAL:P3D
CALSCALE:GREGORIAN
BEGIN:VEVENT
DTSTART:20231119T130000Z
DTEND:20231119T150000Z
X-MICROSOFT-CDO-ALLDAYEVENT:FALSE
SUMMARY:On Stage at the Freight House presents: Mitchell Hall and The Tennessee Trio
DESCRIPTION:Mitchell Hall and The Tennessee Trio/The Songs of Johnny & June Carter Cash
X-ALT-DESC;FMTTYPE=text/html:<h1 style="margin-left:0px\; margin-right:0px">Mitchell Hall and The Tennessee Trio/The Songs of Johnny &amp\; June Carter Cash</h1>\n
LOCATION:
UID:e.257.36626
SEQUENCE:3
DTSTAMP:20260423T030949Z
URL:https://greaterstillwaterchamber.com/events/details/on-stage-at-the-freight-house-presents-mitchell-hall-and-the-tennessee-trio-36626
END:VEVENT

END:VCALENDAR
