BEGIN:VCALENDAR
VERSION:2.0
PRODID:-//ChamberMaster//Event Calendar 2.0//EN
METHOD:PUBLISH
X-PUBLISHED-TTL:P3D
REFRESH-INTERVAL:P3D
CALSCALE:GREGORIAN
BEGIN:VEVENT
DTSTART:20231110T010000Z
DTEND:20231110T030000Z
X-MICROSOFT-CDO-ALLDAYEVENT:FALSE
SUMMARY:On Stage at the Freight House presents: Elton John's Good Bye Yellow Brick Road
DESCRIPTION:Mick Sterling Presents THE ALBUM SERIES / The Complete Double Album performance of Elton John's GOODBYE YELLOW BRICK ROAD
X-ALT-DESC;FMTTYPE=text/html:<span style="color:rgb(57\, 54\, 79)\; font-family:neue plak\,-apple-system\,blinkmacsystemfont\,roboto\,helvetica neue\,helvetica\,tahoma\,arial\,sans-serif\; font-size:14px">Mick Sterling Presents THE ALBUM SERIES / The Complete Double Album performance of Elton John&#39\;s GOODBYE YELLOW BRICK ROAD</span>
LOCATION:
UID:e.257.36623
SEQUENCE:3
DTSTAMP:20260423T025823Z
URL:https://greaterstillwaterchamber.com/events/details/on-stage-at-the-freight-house-presents-elton-john-s-good-bye-yellow-brick-road-36623
END:VEVENT

END:VCALENDAR
