BEGIN:VCALENDAR
VERSION:2.0
PRODID:-//ChamberMaster//Event Calendar 2.0//EN
METHOD:PUBLISH
X-PUBLISHED-TTL:P3D
REFRESH-INTERVAL:P3D
CALSCALE:GREGORIAN
BEGIN:VEVENT
DTSTART:20231214T010000Z
DTEND:20231214T030000Z
X-MICROSOFT-CDO-ALLDAYEVENT:FALSE
SUMMARY:On Stage at the Freight House presents: A GRAND OLE OPRY CHRISTMAS
DESCRIPTION:A GRAND OLE OPRY CHRISTMAS
X-ALT-DESC;FMTTYPE=text/html:<h1 style="margin-left:0px\; margin-right:0px">A GRAND OLE OPRY CHRISTMAS</h1>\n
LOCATION:305 Water Street South Stillwater\, MN 55082
UID:e.257.36632
SEQUENCE:3
DTSTAMP:20260423T004111Z
URL:https://greaterstillwaterchamber.com/events/details/on-stage-at-the-freight-house-presents-a-grand-ole-opry-christmas-36632
END:VEVENT

END:VCALENDAR
