BEGIN:VCALENDAR
VERSION:2.0
PRODID:-//ChamberMaster//Event Calendar 2.0//EN
METHOD:PUBLISH
X-PUBLISHED-TTL:P3D
REFRESH-INTERVAL:P3D
CALSCALE:GREGORIAN
BEGIN:VEVENT
DTSTART:20231020T000000Z
DTEND:20231020T020000Z
X-MICROSOFT-CDO-ALLDAYEVENT:FALSE
SUMMARY:On Stage at the Freight House featuring: Vintage Cruise
DESCRIPTION:Vintage Cruise is a stellar JazzRock Rhythm & Soul Review that pays Tribute to Legends Michael McDonald (The Doobie Brothers) Kenny Loggins\, James Ingram (Quincy Jones)\, and the powerful voices that recorded iconic duets with them such as Patti Austin\, Anita Baker\, Christopher Cross\, Patti LaBelle and so many more.\n\nKnown as the Icons of LA Yacht Rock\, so many Grammy Award-Winning hits emanated from this wonderful fusion of Jazz & Motown culture. Listen to just one note and you'll immediately recognize these Iconic voices and their songs that just can't be heard all in one place again... until now.\n\nVintage Cruise presents a compelling blend of the world-class musicians who've been performing these iconic songs for decades\, fused with the excitement of a new generation of vocal artistry\, all coming together to create something magical.
X-ALT-DESC;FMTTYPE=text/html:<p>Vintage Cruise is a stellar JazzRock Rhythm &amp\; Soul Review that pays Tribute to Legends Michael McDonald (The Doobie Brothers) Kenny Loggins\, James Ingram (Quincy Jones)\, and the powerful voices that recorded iconic duets with them such as Patti Austin\, Anita Baker\, Christopher Cross\, Patti LaBelle and so many more.</p>\n\n<p>Known as the Icons of LA Yacht Rock\, so many Grammy Award-Winning hits emanated from this wonderful fusion of Jazz &amp\; Motown culture. Listen to just one note and you&rsquo\;ll immediately recognize these Iconic voices and their songs that just can&rsquo\;t be heard all in one place again... until now.</p>\n\n<p>Vintage Cruise presents a compelling blend of the world-class musicians who&rsquo\;ve been performing these iconic songs for decades\, fused with the excitement of a new generation of vocal artistry\, all coming together to create something magical.</p>\n
LOCATION:The Freight House 305 Water Street South Stillwater\, MN 55082
UID:e.257.36617
SEQUENCE:3
DTSTAMP:20260423T041351Z
URL:https://greaterstillwaterchamber.com/events/details/on-stage-at-the-freight-house-featuring-vintage-cruise-36617
END:VEVENT

END:VCALENDAR
