BEGIN:VCALENDAR
VERSION:2.0
PRODID:-//ChamberMaster//Event Calendar 2.0//EN
METHOD:PUBLISH
X-PUBLISHED-TTL:P3D
REFRESH-INTERVAL:P3D
CALSCALE:GREGORIAN
BEGIN:VEVENT
DTSTART:20231021T223000Z
DTEND:20231022T013000Z
X-MICROSOFT-CDO-ALLDAYEVENT:FALSE
SUMMARY:Oktoberfest Cruise - Beer Tasting\, Dinner\, Live Music\, and more!
DESCRIPTION:Oktoberfest Cruise - Beer Tasting\, Dinner\,  Live Music\, and more!\n\nSaturday\, October 21\, 2023\n\nHudson\, WI\n\nEnjoy live music\, a taste of German cuisine and a variety of beers along with a Beer Tasting while cruising on the St. Croix.\n\nBoarding starts at 5pm. \n\n\n\nMenu posted is 2022 - Menu for 2023 to be posted soon.\n\nMixed greens w/ ranch & cider vinaigrette\, German Potato Salad\n\nRed Cabbage & Apple Slaw\n\nCheese & Crackers\, Meat Tray & Mustards\n\nRelish & Pickle Assortment\, Beets & Apples w/ Caraway\n\nGreen Beans & Carrots\, Spaetzle with Parsley Butter\n\nRed Potato Stroganoff\, Knockwurst & Sauerkraut\n\nSauerbraten & Red Cabbage\, Veal Snitchel & Riesling Butter\n\nRoast Beef & Mustard Cr me\n\nDessert\n\nMenu subject to change**\n\n\n\n*A Cash Bar is available on board for Beer\, Wine Cocktails and Beverages.\n\nWe DO NOT accept credit cards or checks on the boat.\n\n\n\nFor reservations call 651-436-8883 or go to stcroixrivercruises.com
X-ALT-DESC;FMTTYPE=text/html:<div style="text-align:center"><span style="color:#FFA500"><span style="font-size:16px">Oktoberfest Cruise - Beer Tasting\, Dinner\,&nbsp\; Live Music\, and more!</span></span><br />\n<span style="font-size:16px"><span style="color:#DAA520">Saturday\, October 21\, 2023</span></span><br />\nHudson\, WI</div>\n\n<div><span style="font-size:14px">Enjoy live music\, a taste of German cuisine and a variety of beers along with a Beer Tasting while cruising on the St. Croix.<br />\nBoarding starts at 5pm.&nbsp\;<br />\n<br />\nMenu posted is 2022 - Menu for 2023 to be posted soon.<br />\nMixed greens w/ ranch &amp\; cider vinaigrette\, German Potato Salad<br />\nRed Cabbage &amp\; Apple Slaw<br />\nCheese &amp\; Crackers\, Meat Tray &amp\; Mustards<br />\nRelish &amp\; Pickle Assortment\, Beets &amp\; Apples w/ Caraway<br />\nGreen Beans &amp\; Carrots\, Spaetzle with Parsley Butter<br />\nRed Potato Stroganoff\, Knockwurst &amp\; Sauerkraut<br />\nSauerbraten &amp\; Red Cabbage\, Veal Snitchel &amp\; Riesling Butter<br />\nRoast Beef &amp\; Mustard Cr&egrave\;me<br />\nDessert<br />\nMenu subject to change**<br />\n<br />\n*A Cash Bar is available on board for Beer\, Wine Cocktails and Beverages.<br />\nWe DO NOT accept credit cards or checks on the boat.<br />\n<br />\nFor reservations call 651-436-8883 or go to stcroixrivercruises.com</span></div>\n
LOCATION:98 Walnut St. Hudson\, WI
UID:e.257.26826
SEQUENCE:3
DTSTAMP:20260423T041212Z
URL:https://greaterstillwaterchamber.com/events/details/oktoberfest-cruise-2018-26826
END:VEVENT

END:VCALENDAR
