BEGIN:VCALENDAR
VERSION:2.0
PRODID:-//ChamberMaster//Event Calendar 2.0//EN
METHOD:PUBLISH
X-PUBLISHED-TTL:P3D
REFRESH-INTERVAL:P3D
CALSCALE:GREGORIAN
BEGIN:VEVENT
DTSTART:20241220T010000Z
DTEND:20241220T020000Z
X-MICROSOFT-CDO-ALLDAYEVENT:FALSE
SUMMARY:Oh Deer\, Christmas is near.....Wine & Design Your Own Holiday Centerpiece!
DESCRIPTION:Join Lakeside Floral at the Historic Afton House Inn for an evening of Wine & Design for the holidays! Guided by the experts at Lakeside\, bring your perfect centerpiece to life over a complimentary glass of wine! There's only 15 spots for this event\, so secure your spot today with Lakeside Floral by emailing LakesideFloralMN@gmail.com! Prepayment required- $65 per ticket. We'll see you there!
X-ALT-DESC;FMTTYPE=text/html:<span style="background-color:rgb(255\, 255\, 255)\; color:rgb(51\, 51\, 51)\; font-family:sans-serif\,arial\,verdana\,trebuchet ms\; font-size:13px">Join Lakeside Floral at the Historic Afton House Inn for an evening of Wine &amp\; Design for the holidays! Guided by the experts at Lakeside\, bring your perfect centerpiece to life over a complimentary glass of wine! There&#39\;s only 15 spots for this event\, so secure your spot today with Lakeside Floral by emailing LakesideFloralMN@gmail.com! Prepayment required- $65 per ticket. We&#39\;ll see you there!</span>
LOCATION:The Afton House Inn 3291 S. St. Croix Trail Afton\, MN\, 55001
UID:e.257.40551
SEQUENCE:3
DTSTAMP:20260422T174149Z
URL:https://greaterstillwaterchamber.com/events/details/oh-deer-christmas-is-near-wine-design-your-own-holiday-centerpiece-40551
END:VEVENT

END:VCALENDAR
