BEGIN:VCALENDAR
VERSION:2.0
PRODID:-//ChamberMaster//Event Calendar 2.0//EN
METHOD:PUBLISH
X-PUBLISHED-TTL:P3D
REFRESH-INTERVAL:P3D
CALSCALE:GREGORIAN
BEGIN:VEVENT
DTSTART:20240221T003000Z
DTEND:20240221T020000Z
X-MICROSOFT-CDO-ALLDAYEVENT:FALSE
SUMMARY:Nutrition of Parents of Teens Workshop
DESCRIPTION:This class for parents will give you ideas on how to support your teen/young adult:\n\n	\n	Learn how the "nutrition piece"  is vital to supporting mental health.  \n	\n	\n	What nutrients/ foods support mental health? What nutrition labs or supplements could be helpful.\n	\n	\n	Enhancing the immune system - especially if away at college. \n	\n	\n	What can you do as a parent to support your teen's nutrition & wellness.\n	\n	\n	How does Jen coach and empower teens/young adults to address nutrition along with other wellness habits.\n	\n	\n	Does your teen think about food way to much? What are the risk factors of disordered eating and how can this be "fiercely protected".\n	\n	\n	Jen gives parents some guidance on how to navigate "diet culture" and to gently support body confidence and a healthy way to relate to food.
X-ALT-DESC;FMTTYPE=text/html:<strong>This class for parents will give you ideas on how to support your teen/young adult:</strong>\n<ul>\n	<li style="text-align:left">\n	<p><strong>Learn how the &quot\;nutrition piece&quot\; &nbsp\;is vital to supporting mental health. &nbsp\;</strong></p>\n	</li>\n	<li style="text-align:left">\n	<p><strong>What&nbsp\;nutrients/ foods&nbsp\;support mental health? What nutrition labs or supplements could be helpful.</strong></p>\n	</li>\n	<li style="text-align:left">\n	<p><strong>Enhancing the immune system - especially if away at college.&nbsp\;</strong></p>\n	</li>\n	<li style="text-align:left">\n	<p><strong>What can you do as a parent to support your teen&#39\;s nutrition &amp\; wellness.</strong></p>\n	</li>\n	<li style="text-align:left">\n	<p><strong>How does Jen coach and empower teens/young adults to address nutrition along with other wellness habits.</strong></p>\n	</li>\n	<li style="text-align:left">\n	<p><strong>Does your teen think about food way to much? What are the risk factors of disordered eating and how can this be &quot\;fiercely protected&quot\;.</strong></p>\n	</li>\n	<li>\n	<p style="text-align:left"><strong>Jen gives parents some guidance on how to navigate &ldquo\;diet culture&rdquo\; and to gently support body confidence and a healthy way to relate to food.&nbsp\;</strong></p>\n	</li>\n</ul>\n
LOCATION:
UID:e.257.37132
SEQUENCE:3
DTSTAMP:20260422T231001Z
URL:https://greaterstillwaterchamber.com/events/details/nutrition-of-parents-of-teens-workshop-37132
END:VEVENT

END:VCALENDAR
