BEGIN:VCALENDAR
VERSION:2.0
PRODID:-//ChamberMaster//Event Calendar 2.0//EN
METHOD:PUBLISH
X-PUBLISHED-TTL:P3D
REFRESH-INTERVAL:P3D
CALSCALE:GREGORIAN
BEGIN:VEVENT
DTSTART:20200101T020000Z
DTEND:20200101T055500Z
X-MICROSOFT-CDO-ALLDAYEVENT:FALSE
SUMMARY:New Year's Eve- Live Irish Music: Paul and Lorraine at Charlie's Irish Pub
DESCRIPTION:Live music for Charlie's Irish Pub in the Historic Water Street Inn located in downtown Stillwater.\n\n\n\n\n\nPaul and Lorraine started with a rouge folk band (Folk Underground)\, then split off to form their own duo.  They bring a wide variety to the table\, including: lots of drinking\, lots of losing your love\, plenty of death\, doom\, and destruction\, along with happy little nights in the Pub. They take requests and will play almost anything (if they know about half of it!)
X-ALT-DESC;FMTTYPE=text/html:<p style="text-align:center"><span style="font-family:technical\,sans-serif"><span style="font-size:12.0pt">Live music for Charlie&rsquo\;s Irish Pub in the Historic Water Street Inn located in downtown Stillwater.</span></span><br />\n<br />\n<br />\nPaul and Lorraine started with a rouge folk band (Folk Underground)\, then split off to form their own duo.&nbsp\; They bring a wide variety to the table\, including: lots of drinking\, lots of losing your love\, plenty of death\, doom\, and destruction\, along with happy little nights in the Pub. They take requests and will play almost anything (if they know about half of it!)</p>\n
LOCATION:101 Water Street South Stillwater\, MN 55082
UID:e.257.30230
SEQUENCE:3
DTSTAMP:20260422T061435Z
URL:https://greaterstillwaterchamber.com/events/details/new-year-s-eve-live-irish-music-paul-and-lorraine-at-charlie-s-irish-pub-12-31-2019-30230
END:VEVENT

END:VCALENDAR
