BEGIN:VCALENDAR
VERSION:2.0
PRODID:-//ChamberMaster//Event Calendar 2.0//EN
METHOD:PUBLISH
X-PUBLISHED-TTL:P3D
REFRESH-INTERVAL:P3D
CALSCALE:GREGORIAN
BEGIN:VEVENT
DTSTART:20200414T170000Z
DTEND:20200414T180000Z
X-MICROSOFT-CDO-ALLDAYEVENT:FALSE
SUMMARY:Navigating Tough Talks: Mental Health for Kids of All Ages
DESCRIPTION:In a rapidly changing world\, it's hard to know how to talk to the children in your life about everything. Clinical child psychologists Dr. Michael Troy and Dr. Sarah Jerstad will walk you through the best ways to reach kids where they're at and supports their well-being.
X-ALT-DESC;FMTTYPE=text/html:<span style="font-size:18px"><span style="font-family:trebuchet ms\,helvetica\,sans-serif">In a rapidly changing world\, it&#39\;s hard to know how to talk to the children in your life about everything. Clinical child psychologists Dr. Michael Troy and Dr. Sarah Jerstad will walk you through the best ways to reach kids where they&#39\;re at and supports their well-being.</span></span>
LOCATION:Webinar
UID:e.257.30717
SEQUENCE:3
DTSTAMP:20260422T025212Z
URL:https://greaterstillwaterchamber.com/events/details/navigating-tough-talks-mental-health-for-kids-of-all-ages-30717
END:VEVENT

END:VCALENDAR
