BEGIN:VCALENDAR
VERSION:2.0
PRODID:-//ChamberMaster//Event Calendar 2.0//EN
METHOD:PUBLISH
X-PUBLISHED-TTL:P3D
REFRESH-INTERVAL:P3D
CALSCALE:GREGORIAN
BEGIN:VEVENT
DTSTART:20240512T150000Z
DTEND:20240512T230000Z
X-MICROSOFT-CDO-ALLDAYEVENT:FALSE
SUMMARY:Mother's Day Brunch @ 7 Vines!
DESCRIPTION:MOTHER'S DAY BRUNCH\n\nOpening at 10am with a Limited\, Brunch Menu available -- while supplies last. \n\nReservations encouraged. \n\n\n\nAdd a Tour + Taste Experience to your day! Available times: 12pm/ 2pm / 3:30pm
X-ALT-DESC;FMTTYPE=text/html:<h1>MOTHER&#39\;S DAY BRUNCH</h1>\n\n<p>Opening at 10am with a Limited\, Brunch Menu available -- while supplies last.&nbsp\;<br />\nReservations encouraged.&nbsp\;<br />\n<br />\nAdd a Tour + Taste Experience to your day! Available times: 12pm/ 2pm / 3:30pm</p>\n
LOCATION:7 Vines Vineyard 101 Hwy 96 East Dellwood\, MN 55110
UID:e.257.37200
SEQUENCE:3
DTSTAMP:20260422T145202Z
URL:https://greaterstillwaterchamber.com/events/details/mother-s-day-brunch-7-vines-37200
END:VEVENT

END:VCALENDAR
