BEGIN:VCALENDAR
VERSION:2.0
PRODID:-//ChamberMaster//Event Calendar 2.0//EN
METHOD:PUBLISH
X-PUBLISHED-TTL:P3D
REFRESH-INTERVAL:P3D
CALSCALE:GREGORIAN
BEGIN:VEVENT
DTSTART:20191211T180000Z
DTEND:20191211T190000Z
X-MICROSOFT-CDO-ALLDAYEVENT:FALSE
SUMMARY:More Than Money Matters Webinar Series: Generations & Money
DESCRIPTION:More Than Money Matters Webinar Series: Generations & Money\n\nTerri Ferrise and Tracy Berglund of Thrivent Financial are hosting this interactive Generations & Money event.  During the event they will discuss all the financial decisions you make from 18-70\, spanning from Boomers to Millennials!\n\nLunch will be provided.\n\n\n\nRSVP by 12/09 at:   https://connect.thrivent.com/terri-ferrise/events/?id=13794\n\nNo products will be sold at this event.
X-ALT-DESC;FMTTYPE=text/html:<p><strong><span style="color:#2B363F"><span style="font-size:14.0pt">More Than Money Matters Webinar Series: Generations &amp\; Money</span></span></strong><br />\n<span style="color:#2B363F"><span style="font-size:14.0pt">Terri Ferrise and Tracy Berglund of Thrivent Financial are hosting this interactive Generations &amp\; Money event.&nbsp\; During the event they will discuss all the financial decisions you make from 18-70\, spanning from Boomers to Millennials!</span></span></p>\n\n<p><span style="font-size:14.0pt">Lunch will be provided.<br />\n<br />\n<strong>RSVP by 12/09 at:&nbsp\; &nbsp\;</strong></span><a href="https://connect.thrivent.com/terri-ferrise/events/?id=13794"><span style="font-size:14.0pt">https://connect.thrivent.com/terri-ferrise/events/?id=13794</span></a><br />\n<span style="font-size:14.0pt">No products will be sold at this event.</span><br />\n&nbsp\;</p>\n
LOCATION:Thrivent Financial Office - 805 Dominion Drive\, Suite 120 Hudson\, WI 54016
UID:e.257.30038
SEQUENCE:3
DTSTAMP:20260422T061018Z
URL:https://greaterstillwaterchamber.com/events/details/more-than-money-matters-webinar-series-generations-money-30038
END:VEVENT

END:VCALENDAR
