BEGIN:VCALENDAR
VERSION:2.0
PRODID:-//ChamberMaster//Event Calendar 2.0//EN
METHOD:PUBLISH
X-PUBLISHED-TTL:P3D
REFRESH-INTERVAL:P3D
CALSCALE:GREGORIAN
BEGIN:VEVENT
DTSTART:20240519T130000Z
DTEND:20240519T160000Z
X-MICROSOFT-CDO-ALLDAYEVENT:FALSE
SUMMARY:MN Brain Tumor 5K 2024
DESCRIPTION:The MN Brain Tumor 5K is an annual family fun/run in support of brain tumor research and awareness. What sets this event apart from others like it is that 100% of your donations and sponsorship dollars go directly to the Musella Foundation for Brain Tumor Research and Information\, Inc.\, a 501(c)3 non-profit public charity whose mission is to find a cure for brain tumors. It also serves as a resource for victims and their families both financially and emotionally through:\n\n	Providing grants for brain tumor research\n	Helping patients find and participate in clinical trials\n	Distributing educational materials\n	Raising awareness and advocacy for brain tumor research and more
X-ALT-DESC;FMTTYPE=text/html:<span style="font-size:16px\;"><strong>The MN Brain Tumor 5K is an annual family fun/run in support of brain tumor research and awareness. What sets this event apart from others like it is that 100% of your donations and sponsorship dollars go directly to the Musella Foundation for Brain Tumor Research and Information\, Inc.\, a 501(c)3 non-profit public charity whose mission is to find a cure for brain tumors. It also serves as a resource for victims and their families both financially and emotionally through:</strong></span>\n<ul>\n	<li>Providing grants for brain tumor research</li>\n	<li>Helping patients find and participate in clinical trials</li>\n	<li>Distributing educational materials</li>\n	<li>Raising awareness and advocacy for brain tumor research and more</li>\n</ul>\n
LOCATION:The event location this year: Stillwater Area High School\, 5701 Stillwater Blvd\, Oak Park Heights\, MN 55082
UID:e.257.37207
SEQUENCE:3
DTSTAMP:20260422T145146Z
URL:https://greaterstillwaterchamber.com/events/details/mn-brain-tumor-5k-2024-37207
END:VEVENT

END:VCALENDAR
