BEGIN:VCALENDAR
VERSION:2.0
PRODID:-//ChamberMaster//Event Calendar 2.0//EN
METHOD:PUBLISH
X-PUBLISHED-TTL:P3D
REFRESH-INTERVAL:P3D
CALSCALE:GREGORIAN
BEGIN:VEVENT
DTSTART:20251119T230000Z
DTEND:20251120T010000Z
X-MICROSOFT-CDO-ALLDAYEVENT:FALSE
SUMMARY:Mix & Sip Mixology Class
DESCRIPTION:Celebrate the season with us! Learn the art of crafting a signature holiday cocktail\, guided by an expert instructor from Lucky Guys Distillery\, while enjoying delicious drink tastings and light bites.
X-ALT-DESC;FMTTYPE=text/html:Celebrate the season with us! Learn the art of crafting a signature holiday cocktail\, guided by an expert instructor from Lucky Guys Distillery\, while enjoying delicious drink tastings and light bites.
LOCATION:Wildwood Kitchens and Baths 12445 55th St N\, Suite A Lake Elmo\, MN 55042
UID:e.257.46423
SEQUENCE:3
DTSTAMP:20260421T215252Z
URL:https://greaterstillwaterchamber.com/events/details/mix-sip-mixology-class-46423
END:VEVENT

END:VCALENDAR
