BEGIN:VCALENDAR
VERSION:2.0
PRODID:-//ChamberMaster//Event Calendar 2.0//EN
METHOD:PUBLISH
X-PUBLISHED-TTL:P3D
REFRESH-INTERVAL:P3D
CALSCALE:GREGORIAN
BEGIN:VEVENT
DTSTART:20260409T170000Z
DTEND:20260409T180000Z
X-MICROSOFT-CDO-ALLDAYEVENT:FALSE
SUMMARY:Minnesota Paid Family + Medical Leave 101
DESCRIPTION:Welcome to Minnesota Paid Family & Medical Leave 101!  Are you an employer feeling overwhelmed by the lack of clarity on this new law?  Join us for this free online event where we break it all down for you in simple terms.  Whether you're a small business owner or a human resource professional\, this event is perfect for you. \n\nWe'll cover the basics of the law and all the compliance and financial impacts for you.  This will help attendees understand the evolving regulations and how they will affect daily operations and employee benefits.\n\nZOOM LINK: https://rebrand.ly/MNPaidLeave4/9\n\nContact Grant 763-360-4879 or  grant@mnleavesolutions.com with any questions!
X-ALT-DESC;FMTTYPE=text/html:Welcome to Minnesota Paid Family &amp\; Medical Leave 101!&nbsp\; Are you an employer feeling overwhelmed by the lack of clarity on this new law?&nbsp\; Join us for this free online event where we break it all down for you in simple terms.&nbsp\; Whether you&rsquo\;re a small business owner or a human resource professional\, this event is perfect for you.&nbsp\;<br />\nWe&rsquo\;ll cover the basics of the law and all the compliance and financial impacts for you.&nbsp\; This will help attendees understand the evolving regulations and how they will affect daily operations and employee benefits.<br />\nZOOM LINK: <a href="https://rebrand.ly/MNPaidLeave4/9" style="color:rgb(70\, 120\, 134)\;">https://rebrand.ly/MNPaidLeave4/9</a><br />\nContact Grant 763-360-4879 or &nbsp\;<a href="mailto:grant@mnleavesolutions.com" style="color:rgb(70\, 120\, 134)\;">grant@mnleavesolutions.com</a> with any questions!
LOCATION:https://rebrand.ly/MNPaidLeave4/9
UID:e.257.50125
SEQUENCE:3
DTSTAMP:20260420T160159Z
URL:https://greaterstillwaterchamber.com/events/details/minnesota-paid-family-medical-leave-101-04-09-2026-50125
END:VEVENT

END:VCALENDAR
