BEGIN:VCALENDAR
VERSION:2.0
PRODID:-//ChamberMaster//Event Calendar 2.0//EN
METHOD:PUBLISH
X-PUBLISHED-TTL:P3D
REFRESH-INTERVAL:P3D
CALSCALE:GREGORIAN
BEGIN:VEVENT
DTSTART:20240314T150000Z
DTEND:20240314T160000Z
X-MICROSOFT-CDO-ALLDAYEVENT:FALSE
SUMMARY:Medicare Education 101
DESCRIPTION:Welcome to Medicare Education 101! Are you feeling overwhelmed by all the information out there about Medicare? Join us for this free online event where we break it all down for you in simple terms. Whether you're approaching retirement age or just want to learn more about your healthcare options\, this event is perfect for you. Our expert speakers will cover the basics of Medicare\, including Parts A\, B\, Medicare Advantage\, Medicare Supplement\, and Part D. Don't miss this opportunity to get your questions answered and gain a better understanding of how Medicare works.\n\nZOOM LINK: https://rebrand.ly/Mar/14\n\nContact Grant 763-360-4879 grant@mn-benefits.com
X-ALT-DESC;FMTTYPE=text/html:<span style="font-family:calibri\,sans-serif\; font-size:12pt">Welcome to Medicare Education 101! Are you feeling overwhelmed by all the information out there about Medicare? Join us for this free online event where we break it all down for you in simple terms. Whether you&#39\;re approaching retirement age or just want to learn more about your healthcare options\, this event is perfect for you. Our expert speakers will cover the basics of Medicare\, including Parts A\, B\, Medicare Advantage\, Medicare Supplement\, and Part D. Don&#39\;t miss this opportunity to get your questions answered and gain a better understanding of how Medicare works.<br />\nZOOM LINK:&nbsp\;</span><a href="https://rebrand.ly/Mar/14" style="text-align: center\; color: blue\;"><span style="font-family:helvetica">https://rebrand.ly/Mar/14</span></a><br />\nContact Grant 763-360-4879 grant@mn-benefits.com<br />\n&nbsp\;
LOCATION:Virtual: https://rebrand.ly/Mar/14
UID:e.257.37153
SEQUENCE:3
DTSTAMP:20260422T201344Z
URL:https://greaterstillwaterchamber.com/events/details/medicare-education-101-37153
END:VEVENT

END:VCALENDAR
