BEGIN:VCALENDAR
VERSION:2.0
PRODID:-//ChamberMaster//Event Calendar 2.0//EN
METHOD:PUBLISH
X-PUBLISHED-TTL:P3D
REFRESH-INTERVAL:P3D
CALSCALE:GREGORIAN
BEGIN:VEVENT
DTSTART:20240606T150000Z
DTEND:20240606T160000Z
X-MICROSOFT-CDO-ALLDAYEVENT:FALSE
SUMMARY:Medicare Education 101
DESCRIPTION:Welcome to Medicare Education 101! Are you feeling overwhelmed by all the information out there about Medicare? Join us for this free online event where we break it all down for you in simple terms. Whether you're approaching retirement age or just want to learn more about your healthcare options\, this event is perfect for you. Our expert speakers will cover the basics of Medicare\, including Parts A\, B\, Medicare Advantage\, Medicare Supplement\, and Part D. Don't miss this opportunity to get your questions answered and gain a better understanding of how Medicare works.\n\nZOOM LINK: https://rebrand.ly/MedicareJune6
X-ALT-DESC;FMTTYPE=text/html:Welcome to Medicare Education 101! Are you feeling overwhelmed by all the information out there about Medicare? Join us for this free online event where we break it all down for you in simple terms. Whether you&#39\;re approaching retirement age or just want to learn more about your healthcare options\, this event is perfect for you. Our expert speakers will cover the basics of Medicare\, including Parts A\, B\, Medicare Advantage\, Medicare Supplement\, and Part D. Don&#39\;t miss this opportunity to get your questions answered and gain a better understanding of how Medicare works.<br />\n<strong><span style="font-family:calibri\,sans-serif"><span style="font-size:12pt">ZOOM LINK: </span></span></strong><span style="font-family:calibri\,sans-serif"><span style="font-size:12pt"><a href="https://rebrand.ly/MedicareJune6" style="color:rgb(5\, 99\, 193)\;"><span style="font-family:helvetica"><span style="font-size:10.5pt">https://rebrand.ly/MedicareJune6</span></span></a></span></span>
LOCATION:https://rebrand.ly/MedicareJune6
UID:e.257.37216
SEQUENCE:3
DTSTAMP:20260422T161252Z
URL:https://greaterstillwaterchamber.com/events/details/medicare-education-101-06-06-2024-37216
END:VEVENT

END:VCALENDAR
