BEGIN:VCALENDAR
VERSION:2.0
PRODID:-//ChamberMaster//Event Calendar 2.0//EN
METHOD:PUBLISH
X-PUBLISHED-TTL:P3D
REFRESH-INTERVAL:P3D
CALSCALE:GREGORIAN
BEGIN:VEVENT
DTSTART:20240224T000000Z
DTEND:20240224T050000Z
X-MICROSOFT-CDO-ALLDAYEVENT:FALSE
SUMMARY:Mardi Gras- an inspirational fundraiser for Youth Advantage
DESCRIPTION:Please join us for the Tenth Annual Mardi Gras-- an inspired event to benefit Youth Advantage featuring fabulous food\, bourbon tasting\, live auction\, lively games & music\, New Orleans flare & fun!\n\n	This event is for individuals 21 years and older.\n	Typical Friday night attire. Bring your authentic Mardi Gras mask if you are inspired!
X-ALT-DESC;FMTTYPE=text/html:<br />\nPlease join us for the Tenth Annual Mardi Gras-- an inspired event to benefit Youth Advantage featuring fabulous food\, bourbon tasting\, live auction\, lively games &amp\; music\, New Orleans flare &amp\; fun!\n<ul>\n	<li><strong>This event is for individuals 21 years and older.</strong></li>\n	<li><strong>Typical Friday night attire. Bring your authentic Mardi Gras mask if you are inspired!</strong></li>\n</ul>\n
LOCATION:The Grand Banquet Hall\, 301 Second St. S.\, Stillwater\, MN 55082
UID:e.257.37112
SEQUENCE:3
DTSTAMP:20260422T230914Z
URL:https://greaterstillwaterchamber.com/events/details/mardi-gras-an-inspirational-fundraiser-for-youth-advantage-37112
END:VEVENT

END:VCALENDAR
