BEGIN:VCALENDAR
VERSION:2.0
PRODID:-//ChamberMaster//Event Calendar 2.0//EN
METHOD:PUBLISH
X-PUBLISHED-TTL:P3D
REFRESH-INTERVAL:P3D
CALSCALE:GREGORIAN
BEGIN:VEVENT
DTSTART:20150311T163000Z
DTEND:20150311T180000Z
X-MICROSOFT-CDO-ALLDAYEVENT:FALSE
SUMMARY:Lunch & Learn
DESCRIPTION:THE POWER OF STORY FOR NETWORKING\n\nA Networking Presentation by:\n\nPete Machalek\, Owner of SagePresence\n\n  How to Build Relationships Anywhere You Go\n\nMost of us recognize that we're supposed to network --- we hear it from so many experts\, but so few of them tell us what we're really supposed to do....\n\nTHE POWER OF STORY identifies everything that gets in our way around networking\, and then quickly and efficiently takes care of those barriers\, replacing anxiety with ease\, uncertainty with clarity\, and resignation with excitement.\n\nTake-aways:\n\n- A game-changing new understanding of what the challenge of networking is all about.\n\n- A whole new level of comfort and ability around networking.\n\n- An ability to lead productive networking conversations with anyone\, anywhere.
X-ALT-DESC;FMTTYPE=text/html:<strong>THE POWER OF STORY FOR NETWORKING</strong><br />\nA Networking Presentation by:<br />\nPete Machalek\, Owner of SagePresence<br />\n<strong>&#8203\;&#8203\;How to Build Relationships Anywhere You Go</strong><br />\nMost of us recognize that we&#39\;re supposed to network --- we hear it from so many experts\, but so few of them tell us what we&#39\;re really supposed to do....<br />\nTHE POWER OF STORY identifies everything that gets in our way around networking\, and then quickly and efficiently takes care of those barriers\, replacing anxiety with ease\, uncertainty with clarity\, and resignation with excitement.<br />\nTake-aways:<br />\n- A game-changing new understanding of what the challenge of networking is all about.<br />\n- A whole new level of comfort and ability around networking.<br />\n- An ability to lead productive networking conversations with anyone\, anywhere.
LOCATION:Lake Elmo Event Center 3712 Layton Ave N Lake Elmo (651) 779-5994
UID:e.257.17733
SEQUENCE:3
DTSTAMP:20260425T204602Z
URL:https://greaterstillwaterchamber.com/events/details/lunch-learn-03-11-2015-17733
END:VEVENT

END:VCALENDAR
