BEGIN:VCALENDAR
VERSION:2.0
PRODID:-//ChamberMaster//Event Calendar 2.0//EN
METHOD:PUBLISH
X-PUBLISHED-TTL:P3D
REFRESH-INTERVAL:P3D
CALSCALE:GREGORIAN
BEGIN:VEVENT
DTSTART:20240518T140000Z
DTEND:20240518T170000Z
X-MICROSOFT-CDO-ALLDAYEVENT:FALSE
SUMMARY:Long Lake Bird Habitat Planting Party
DESCRIPTION:Join us for a memorable family-friendly event dedicated to restoring and enhancing the bird habitat at Long Lake. The Long Lake Bird Habitat Planting Party is set to take place on May 18th\, 2024\, with a rain date scheduled for May 19th. From 9AM to 12PM\, we invite participants of all ages to come together at Croixwood Open Square for a day filled with meaningful activities. Date & Location Date: May 18th\, 2024 (Rain date: May 19th) Time: 9:00 AM - 12:00 PM Location: Croixwood Open Square\, situated on the east side of Long Lake. Check-in will be conveniently located near Croixwood Blvd and Northland Ave. Objective Our primary objectives for the day include: Planting 300 tree seedlings to bolster the bird habitat. Erecting deer fencing around each newly planted tree to protect them. Removing invasive species such as buckthorn and garlic mustard\, which threatens the ecological balance of the area. Bird Habitat Expansion We are passionate about expanding and nurturing the bird habitat at Long Lake. By planting native tree seedlings and removing invasive species\, we aim to create a thriving ecosystem that provides food and shelter for a diverse range of bird species. Through these efforts\, we hope to contribute to the preservation of local bird populations and promote biodiversity in the area. Why Participate? This event is not just about planting trees\; it's about fostering a sense of community and environmental stewardship. By participating in the Long Lake Bird Habitat Planting Party\, you'll have the opportunity to make a tangible difference in the local ecosystem while enjoying a fun-filled day outdoors with friends\, family\, and fellow nature enthusiasts. Partnership The Long Lake Bird Habitat Planting Party is proudly hosted in partnership with the City of Stillwater and Bird City Stillwater. Together\, we are committed to promoting environmental conservation and sustainability initiatives within our community. What to Bring To ensure a successful and enjoyable experience\, please remember to bring: Garden shovels Gloves Closed-toed shoes Water Snacks We recommend arriving 5-10 minutes early to check in and get situated. Join us as we come together to plant the seeds of change and cultivate a brighter\, greener future for Long Lake and its feathered inhabitants. We look forward to seeing you there!
X-ALT-DESC;FMTTYPE=text/html:Join us for a memorable family-friendly event dedicated to restoring and enhancing the bird habitat at Long Lake. The Long Lake Bird Habitat Planting Party is set to take place on May 18th\, 2024\, with a rain date scheduled for May 19th. From 9AM to 12PM\, we invite participants of all ages to come together at Croixwood Open Square for a day filled with meaningful activities. Date &amp\; Location Date: May 18th\, 2024 (Rain date: May 19th) Time: 9:00 AM - 12:00 PM Location: Croixwood Open Square\, situated on the east side of Long Lake. Check-in will be conveniently located near Croixwood Blvd and Northland Ave. Objective Our primary objectives for the day include: Planting 300 tree seedlings to bolster the bird habitat. Erecting deer fencing around each newly planted tree to protect them. Removing invasive species such as buckthorn and garlic mustard\, which threatens the ecological balance of the area. Bird Habitat Expansion We are passionate about expanding and nurturing the bird habitat at Long Lake. By planting native tree seedlings and removing invasive species\, we aim to create a thriving ecosystem that provides food and shelter for a diverse range of bird species. Through these efforts\, we hope to contribute to the preservation of local bird populations and promote biodiversity in the area. Why Participate? This event is not just about planting trees\; it&#39\;s about fostering a sense of community and environmental stewardship. By participating in the Long Lake Bird Habitat Planting Party\, you&#39\;ll have the opportunity to make a tangible difference in the local ecosystem while enjoying a fun-filled day outdoors with friends\, family\, and fellow nature enthusiasts. Partnership The Long Lake Bird Habitat Planting Party is proudly hosted in partnership with the City of Stillwater and Bird City Stillwater. Together\, we are committed to promoting environmental conservation and sustainability initiatives within our community. What to Bring To ensure a successful and enjoyable experience\, please remember to bring: Garden shovels Gloves Closed-toed shoes Water Snacks We recommend arriving 5-10 minutes early to check in and get situated. Join us as we come together to plant the seeds of change and cultivate a brighter\, greener future for Long Lake and its feathered inhabitants. We look forward to seeing you there!
LOCATION:Croixwood Open Square\, Stillwater\, MN 55082\, USA
UID:e.257.37179
SEQUENCE:3
DTSTAMP:20260422T145459Z
URL:https://greaterstillwaterchamber.com/events/details/long-lake-bird-habitat-planting-party-37179
END:VEVENT

END:VCALENDAR
