BEGIN:VCALENDAR
VERSION:2.0
PRODID:-//ChamberMaster//Event Calendar 2.0//EN
METHOD:PUBLISH
X-PUBLISHED-TTL:P3D
REFRESH-INTERVAL:P3D
CALSCALE:GREGORIAN
BEGIN:VEVENT
DTSTART:20240204T200000Z
DTEND:20240204T213000Z
X-MICROSOFT-CDO-ALLDAYEVENT:FALSE
SUMMARY:Literature Lovers' Night Out
DESCRIPTION:Literature Lovers' Night Out  presents presents Andrew Graff\, Laura Zigman\, Beth Dooley\, and Jody Lulich Join these four amazing authors for an afternoon of literary fun at the Lowell Inn\, located at 102 2nd St N\, Stillwater\, MN 55082. Literature Lovers' Night Out  is an event hosted by Pamela Klinger-Horn\, featuring national and local authors and prize drawings. Seating is limited to 100 guests. Doors open 30 minutes before the event starts so come early to mingle and meet the authors! They will also happily sign your books and answer questions after the program. A cash bar is available. This event is sponsored by Valley Bookseller\, who will be onsite with copies of books by each author available for purchase.
X-ALT-DESC;FMTTYPE=text/html:Literature Lovers&#39\; Night Out&trade\; presents presents Andrew Graff\, Laura Zigman\, Beth Dooley\, and Jody Lulich Join these four amazing authors for an afternoon of literary fun at the Lowell Inn\, located at 102 2nd St N\, Stillwater\, MN 55082. Literature Lovers&#39\; Night Out&trade\; is an event hosted by Pamela Klinger-Horn\, featuring national and local authors and prize drawings. Seating is limited to 100 guests. Doors open 30 minutes before the event starts so come early to mingle and meet the authors! They will also happily sign your books and answer questions after the program. A cash bar is available. This event is sponsored by Valley Bookseller\, who will be onsite with copies of books by each author available for purchase.
LOCATION:Lowell Inn 102 2nd St N Stillwater\, MN 55082
UID:e.257.37109
SEQUENCE:3
DTSTAMP:20260422T214028Z
URL:https://greaterstillwaterchamber.com/events/details/literature-lovers-night-out-02-04-2024-37109
END:VEVENT

END:VCALENDAR
