BEGIN:VCALENDAR
VERSION:2.0
PRODID:-//ChamberMaster//Event Calendar 2.0//EN
METHOD:PUBLISH
X-PUBLISHED-TTL:P3D
REFRESH-INTERVAL:P3D
CALSCALE:GREGORIAN
BEGIN:VEVENT
DTSTART:20250322T170000Z
DTEND:20250323T013000Z
X-MICROSOFT-CDO-ALLDAYEVENT:FALSE
SUMMARY:Literary Libations: A Local Authors Festival
DESCRIPTION:Lift Bridge Brewing Co. is proud to host our 1st Annual LITERARY LIBATIONS - a Local Authors Festival - showcasing the amazing authors in our community on Saturday\, March 22\, 2025 from Noon - 6 PM.\n\nLift Bridge is always happy to introduce other Small Businesses\, Makers & Artisans to the community - and it's a chance to enjoy some fantastic beers while you shop and listen to some amazing local authors!\n\nWe will also have some LIVE READINGS throughout the day - so you can hear some of your favorite words come to life!\n\nLOCAL AUTHORS FESTIVAL (12 - 6 PM)\n\n  A.W. Powers // Amanda Meuwissen // Amy Shomshak // Betty Brandt Passick // Brian Lutterman // C.E. Linares // Chris Norbury // Dan Rehm // Douglas Van Dyke\, Jr. // El Holly // John Gaspard // Judy Kerr // M. Stone Mayer // M.R. Moraine //  Michael Bernabo // Steven Hopstaken & Melissa Prusi // Tara Vasser // Zachariah Jones // Authors listed in alphabetical order and subject to change\n\nFOOD TRUCK\n\n  Smash N Dash (12 - 7 PM)\n\nLIVE MUSIC in the Taproom:\n\n  Maddie Forsythe (5:30 - 8:30 PM)
X-ALT-DESC;FMTTYPE=text/html:<p><span style="color:#000000">Lift Bridge Brewing Co.&nbsp\;is proud to host our&nbsp\;1st Annual LITERARY LIBATIONS - a Local Authors Festival -&nbsp\;showcasing the&nbsp\;<u>amazing authors in our community</u>&nbsp\;on&nbsp\;Saturday\, March 22\, 2025 from Noon - 6 PM.</span></p>\n\n<p><span style="color:#000000">Lift Bridge&nbsp\;is always happy to introduce other&nbsp\;Small Businesses\, Makers &amp\; Artisans&nbsp\;to the community - and it&#39\;s a chance to&nbsp\;<u>enjoy some fantastic beers</u>&nbsp\;while you&nbsp\;shop and listen to some amazing local authors!</span></p>\n\n<p><span style="color:#000000">We will also have some&nbsp\;LIVE READINGS&nbsp\;throughout the day - so you can&nbsp\;hear some of your favorite words come to life!</span></p>\n\n<p><span style="color:#000000">LOCAL AUTHORS FESTIVAL&nbsp\;<em>(12 - 6 PM)</em><br />\n&nbsp\;&nbsp\;</span><em><a href="https://www.facebook.com/groups/654144119971484/" style="box-sizing: border-box\; background-color: transparent\; text-decoration-line: none\; color: rgb(192\, 49\, 26)\;"><span style="color:#000000">A.W. Powers</span></a><span style="color:#000000">&nbsp\;//&nbsp\;</span><a href="https://www.facebook.com/AuthorAmandaMeuwissen" style="box-sizing: border-box\; background-color: transparent\; text-decoration-line: none\; color: rgb(192\, 49\, 26)\;"><span style="color:#000000">Amanda Meuwissen</span></a><span style="color:#000000">&nbsp\;//&nbsp\;</span><a href="https://www.facebook.com/profile.php?id=100063795630186#" style="box-sizing: border-box\; background-color: transparent\; text-decoration-line: none\; color: rgb(192\, 49\, 26)\;"><span style="color:#000000">Amy Shomshak</span></a><span style="color:#000000">&nbsp\;//&nbsp\;</span><a href="https://www.facebook.com/BettyBrandtPassick" style="box-sizing: border-box\; background-color: transparent\; text-decoration-line: none\; color: rgb(192\, 49\, 26)\;"><span style="color:#000000">Betty Brandt Passick&nbsp\;</span></a><span style="color:#000000">//&nbsp\;</span><a href="https://www.facebook.com/AuthorBrianLutterman/" style="box-sizing: border-box\; background-color: transparent\; text-decoration-line: none\; color: rgb(192\, 49\, 26)\;"><span style="color:#000000">Brian Lutterman</span></a><span style="color:#000000">&nbsp\;//&nbsp\;</span><a href="https://www.facebook.com/celinaresauthor" style="box-sizing: border-box\; background-color: transparent\; text-decoration-line: none\; color: rgb(192\, 49\, 26)\;"><span style="color:#000000">C.E. Linares</span></a><span style="color:#000000">&nbsp\;//&nbsp\;</span><a href="https://www.facebook.com/ChrisNorburyWriter/" style="box-sizing: border-box\; background-color: transparent\; text-decoration-line: none\; color: rgb(192\, 49\, 26)\;"><span style="color:#000000">Chris Norbury&nbsp\;</span></a><span style="color:#000000">//&nbsp\;</span><a href="https://www.facebook.com/rudbeckiaproductions" style="box-sizing: border-box\; background-color: transparent\; text-decoration-line: none\; color: rgb(192\, 49\, 26)\;"><span style="color:#000000">Dan Rehm</span></a><span style="color:#000000">&nbsp\;//&nbsp\;</span><a href="https://www.facebook.com/profile.php?id=100063615218614" style="box-sizing: border-box\; background-color: transparent\; text-decoration-line: none\; color: rgb(192\, 49\, 26)\;"><span style="color:#000000">Douglas Van Dyke\, Jr.</span></a><span style="color:#000000">&nbsp\;//&nbsp\;</span><a href="https://www.facebook.com/elhollywrites" style="box-sizing: border-box\; background-color: transparent\; text-decoration-line: none\; color: rgb(192\, 49\, 26)\;"><span style="color:#000000">El Holly</span></a><span style="color:#000000">&nbsp\;//&nbsp\;</span><a href="https://www.facebook.com/JohnGaspardAuthorPage/" style="box-sizing: border-box\; background-color: transparent\; text-decoration-line: none\; color: rgb(192\, 49\, 26)\;"><span style="color:#000000">John Gaspard</span></a><span style="color:#000000">&nbsp\;//&nbsp\;</span><a href="https://www.facebook.com/judy.kerr.9" style="box-sizing: border-box\; background-color: transparent\; text-decoration-line: none\; color: rgb(192\, 49\, 26)\;"><span style="color:#000000">Judy Kerr</span></a><span style="color:#000000">&nbsp\;//&nbsp\;</span><a href="https://www.facebook.com/mike.mayer.35380" style="box-sizing: border-box\; background-color: transparent\; text-decoration-line: none\; color: rgb(192\, 49\, 26)\;"><span style="color:#000000">M. Stone Mayer</span></a><span style="color:#000000">&nbsp\;//&nbsp\;</span><a href="https://www.facebook.com/mistermoraine" style="box-sizing: border-box\; background-color: transparent\; text-decoration-line: none\; color: rgb(192\, 49\, 26)\;"><span style="color:#000000">M.R. Moraine&nbsp\;</span></a><span style="color:#000000">// &nbsp\;</span><a href="https://www.facebook.com/MichaelBernaboAuthor" style="box-sizing: border-box\; background-color: transparent\; text-decoration-line: none\; color: rgb(192\, 49\, 26)\;"><span style="color:#000000">Michael Bernabo</span></a><span style="color:#000000">&nbsp\;//&nbsp\;</span><a href="https://www.facebook.com/stokerswilde/" style="box-sizing: border-box\; background-color: transparent\; text-decoration-line: none\; color: rgb(192\, 49\, 26)\;"><span style="color:#000000">Steven Hopstaken &amp\; Melissa Prusi&nbsp\;</span></a><span style="color:#000000">//&nbsp\;</span><a href="https://www.facebook.com/TaraVasserAuthor" style="box-sizing: border-box\; background-color: transparent\; text-decoration-line: none\; color: rgb(192\, 49\, 26)\;"><span style="color:#000000">Tara Vasser</span></a><span style="color:#000000">&nbsp\;//&nbsp\;</span><a href="https://www.facebook.com/thezachariahjones" style="box-sizing: border-box\; background-color: transparent\; text-decoration-line: none\; color: rgb(192\, 49\, 26)\;"><span style="color:#000000">Zachariah Jones&nbsp\;</span></a><span style="color:#000000">//&nbsp\;Authors listed in alphabetical order and subject to change</span></em></p>\n\n<p><span style="color:#000000">FOOD TRUCK<br />\n&nbsp\;&nbsp\;</span><a href="https://www.facebook.com/profile.php?id=61566604987237" style="box-sizing: border-box\; background-color: transparent\; text-decoration-line: none\; color: rgb(192\, 49\, 26)\;"><span style="color:#000000">Smash N Dash</span></a><span style="color:#000000">&nbsp\;<em>(12 - 7 PM)</em></span></p>\n\n<p><span style="color:#000000">LIVE MUSIC in the Taproom:<br />\n&nbsp\;&nbsp\;</span><a href="https://www.facebook.com/maddie.moen.12" style="box-sizing: border-box\; background-color: transparent\; text-decoration-line: none\; color: rgb(192\, 49\, 26)\;"><span style="color:#000000">Maddie Forsythe</span></a><span style="color:#000000">&nbsp\;<em>(5:30 - 8:30 PM)</em></span></p>\n
LOCATION:Lift Bridge Brewing Stillwater\, 1900 Tower Dr W\, Stillwater\, MN 55082\, USA
UID:e.257.43063
SEQUENCE:3
DTSTAMP:20260419T144230Z
URL:https://greaterstillwaterchamber.com/events/details/literary-libations-a-local-authors-festival-43063
END:VEVENT

END:VCALENDAR
