BEGIN:VCALENDAR
VERSION:2.0
PRODID:-//ChamberMaster//Event Calendar 2.0//EN
METHOD:PUBLISH
X-PUBLISHED-TTL:P3D
REFRESH-INTERVAL:P3D
CALSCALE:GREGORIAN
BEGIN:VEVENT
DTSTART:20231222T010000Z
DTEND:20231222T020000Z
X-MICROSOFT-CDO-ALLDAYEVENT:FALSE
SUMMARY:Light in the Darkness: A Contemplative Christmas Solstice Service
DESCRIPTION:A beautiful\, contemplative winter solstice service\, acknowledging both difficult & nurturing darkness\, we honor what is and what may be  God with us in both.
X-ALT-DESC;FMTTYPE=text/html:<span style="color:#000000"><em><span style="font-family:merriweather"><span style="font-size:9.0pt">A beautiful\, contemplative winter solstice service\, acknowledging both difficult &amp\; nurturing darkness\, we honor what is and what may be&hellip\; God with us in both.</span></span></em></span><br />\n&nbsp\;
LOCATION:St\, Croix United Church (formerly People's Congregational Church) 309 N. Third St Bayport\, MN 55003
UID:e.257.36669
SEQUENCE:3
DTSTAMP:20260423T004809Z
URL:https://greaterstillwaterchamber.com/events/details/light-in-the-darkness-a-contemplative-christmas-solstice-service-36669
END:VEVENT

END:VCALENDAR
