BEGIN:VCALENDAR
VERSION:2.0
PRODID:-//ChamberMaster//Event Calendar 2.0//EN
METHOD:PUBLISH
X-PUBLISHED-TTL:P3D
REFRESH-INTERVAL:P3D
CALSCALE:GREGORIAN
BEGIN:VEVENT
DTSTART:20250705T003000Z
DTEND:20250705T033000Z
X-MICROSOFT-CDO-ALLDAYEVENT:FALSE
SUMMARY:Light a Spark
DESCRIPTION:Ready for the best 4th of July bash? Join us for Light a Spark!\n\nThis annual Fourth of July extravaganza hosted by the Stillwater Public Library Foundation\, supports the programs\, materials and resources of Stillwater Public Library.  \nEnjoy an evening on the picturesque Johnson Terrace at the Stillwater Public Library and enjoy live music\, entertainment\, dinner\, cash bar\, and games. Skip the crowds and enjoy the best view in town of Stillwater's breathtaking fireworks. We've got plenty of tables and chairs so no need to pack-up a lawn chair or blanket.
X-ALT-DESC;FMTTYPE=text/html:<p>Ready for the best 4th of July bash? Join us for Light a Spark!</p>\n\n<p>This annual Fourth of July extravaganza hosted by the Stillwater Public Library Foundation\, supports the programs\, materials and resources of Stillwater Public Library.&nbsp\;&nbsp\;</p>\nEnjoy an evening on the picturesque Johnson Terrace at the Stillwater Public Library and enjoy live music\, entertainment\, dinner\, cash bar\, and games. Skip the crowds and enjoy the best view in town of Stillwater&#39\;s breathtaking fireworks. We&#39\;ve got plenty of tables and chairs so no need to pack-up a lawn chair or blanket.
LOCATION:Stillwater Public Library Johnson Terrace\, 224 3rd Street North\, Stillwater\, MN 55082
UID:e.257.43404
SEQUENCE:3
DTSTAMP:20260422T043209Z
URL:https://greaterstillwaterchamber.com/events/details/light-a-spark-07-04-2025-43404
END:VEVENT

END:VCALENDAR
