BEGIN:VCALENDAR
VERSION:2.0
PRODID:-//ChamberMaster//Event Calendar 2.0//EN
METHOD:PUBLISH
X-PUBLISHED-TTL:P3D
REFRESH-INTERVAL:P3D
CALSCALE:GREGORIAN
BEGIN:VEVENT
DTSTART:20240308T230000Z
DTEND:20240309T030000Z
X-MICROSOFT-CDO-ALLDAYEVENT:FALSE
SUMMARY:Lift Bridge Goddess of Hops · International Women's Day Beer Release
DESCRIPTION:Celebrate International Women's Day with us at Lift Bridge!\n\nThe Women of Lift Bridge Brewery have created their 9th Annual International Women's Day Beer. Women from every department of Lift Bridge - from Sales to Marketing to Beertenders and Hospitality - have worked together to craft a brand new HAZY IPA called GODDESS OF HOPS!\n\nOur featured food truck is ODB's Meat & Greet! (4 - 9 PM).\n\nLive Music from Cold Kingdom (5:30 - 6:15 PM) followed by Lemon Lob (6:30 - 8:30 PM).\n\nWe will also be featuring a Vendor Fair of Women-Owned Businesses - so please stop on by and support each & every one of them (5:30 - 8:30 PM)\n\nBets & Ben Creative // BlueSkys Soapery // #BridgeTownBurns // Girl Scout Cookies - Troop 57678 // Permalinx by JBloom // River Bend Gardens // Sarah Schneemann Art // Stillwater Soy Candle Co. //\n\n$1 from each pint and $2 from each Crowler of each GODDESS OF HOPS sold as well as the proceeds from the silent auction will be donated to EmmaNorton.org. Emma Norton Services provide transformational housing and growth for women and families on their journey of recovery.
X-ALT-DESC;FMTTYPE=text/html:<div>Celebrate International Women&#39\;s Day with us at Lift Bridge!</div>\n\n<div>The Women of Lift Bridge Brewery have created their 9th Annual International Women&#39\;s Day Beer. Women from every department of Lift Bridge - from Sales to Marketing to Beertenders and Hospitality - have worked together to craft a brand new HAZY IPA called GODDESS OF HOPS!</div>\n\n<div>Our featured food truck is ODB&#39\;s Meat &amp\; Greet! (4 - 9 PM).</div>\n\n<div>Live Music from Cold Kingdom (5:30 - 6:15 PM) followed by Lemon Lob (6:30 - 8:30 PM).</div>\n\n<div>We will also be featuring a Vendor Fair of Women-Owned Businesses - so please stop on by and support each &amp\; every one of them (5:30 - 8:30 PM)</div>\n\n<div>Bets &amp\; Ben Creative // BlueSkys Soapery //&nbsp\;<a class="x1i10hfl xjbqb8w x1ejq31n xd10rxx x1sy0etr x17r0tee x972fbf xcfux6l x1qhh985 xm0m39n x9f619 x1ypdohk xt0psk2 xe8uvvx xdj266r x11i5rnm xat24cr x1mh8g0r xexx8yu x4uap5 x18d9i69 xkhd6sd x16tdsg8 x1hl2dhg xggy1nq x1a2a7pz xt0b8zv xzsf02u x1s688f" href="https://www.facebook.com/hashtag/bridgetownburns?__eep__=6&amp\;__cft__[0]=AZWzO1RlAHfcFb9p1df10aRRk-8hGPl2LbGuPjs3Nf01lQRtFiOIB45FIxwOlFroJzqm9P1-RntjVXbSPvRfkyMFz9LWS_hvnGAQOWFEsRkd8UorvjyXAVxVTWtTekZVqzk&amp\;__tn__=q" style="color: var(--primary-text)\; cursor: pointer\; text-decoration-line: none\; outline: none\; list-style: none\; margin: 0px\; text-align: inherit\; border-style: none\; font-weight: 600\; padding: 0px\; border-width: 0px\; box-sizing: border-box\; background-color: transparent\; display: inline\; -webkit-tap-highlight-color: transparent\; touch-action: manipulation\; font-family: inherit\;" tabindex="0">#BridgeTownBurns</a>&nbsp\;// Girl Scout Cookies - Troop 57678 // Permalinx by JBloom // River Bend Gardens // Sarah Schneemann Art // Stillwater Soy Candle Co. //</div>\n\n<div>$1 from each pint and $2 from each Crowler of each GODDESS OF HOPS sold as well as the proceeds from the silent auction will be donated to&nbsp\;<a class="x1i10hfl xjbqb8w x1ejq31n xd10rxx x1sy0etr x17r0tee x972fbf xcfux6l x1qhh985 xm0m39n x9f619 x1ypdohk xt0psk2 xe8uvvx xdj266r x11i5rnm xat24cr x1mh8g0r xexx8yu x4uap5 x18d9i69 xkhd6sd x16tdsg8 x1hl2dhg xggy1nq x1a2a7pz xt0b8zv x1fey0fg" href="https://l.facebook.com/l.php?u=http%3A%2F%2FEmmaNorton.org%2F%3Ffbclid%3DIwAR2wPOWovYPog3fWz6vzxA7fR86JQa1hFSPWDrdcaMhm3x6YaJOBiF4y3Hk&amp\;h=AT2i1tzXqL9PnJSslbvrAQBGWbNyNxCDKuBOD-H44fpuoaQHbI0voF1s-80WZb5DgR3OXoBAu6TBJ1s4D-oEufNO2MAm0a1jqqXGhkiwFJzjVIDKqERNG3J2orIPae2drq8duw4&amp\;__tn__=q&amp\;c[0]=AT3JL33Ncc9uceWhpcXUpYWIuCCuJgeFNr9u1yOwcXk1z5retBy91tLI6-uwQJV16OIrcqsPkK7Uij3lEJivCOzlgCzA2AX33CXsoyf9SQk2xDyX6XGLr_4zeLLFW_54uL9V19XcM4wxmItBa0ZKmDeXK4O-" rel="nofollow noreferrer" style="color: var(--blue-link)\; cursor: pointer\; text-decoration-line: none\; outline: none\; list-style: none\; margin: 0px\; text-align: inherit\; border-style: none\; padding: 0px\; border-width: 0px\; box-sizing: border-box\; background-color: transparent\; display: inline\; -webkit-tap-highlight-color: transparent\; touch-action: manipulation\; font-family: inherit\;" tabindex="0" target="_blank">EmmaNorton.org.</a>&nbsp\;Emma Norton Services provide transformational housing and growth for women and families on their journey of recovery.</div>\n
LOCATION:
UID:e.257.37151
SEQUENCE:3
DTSTAMP:20260422T202534Z
URL:https://greaterstillwaterchamber.com/events/details/lift-bridge-goddess-of-hops-international-women-s-day-beer-release-37151
END:VEVENT

END:VCALENDAR
