BEGIN:VCALENDAR
VERSION:2.0
PRODID:-//ChamberMaster//Event Calendar 2.0//EN
METHOD:PUBLISH
X-PUBLISHED-TTL:P3D
REFRESH-INTERVAL:P3D
CALSCALE:GREGORIAN
BEGIN:VEVENT
DTSTART:20220601T233000Z
DTEND:20220602T003000Z
X-MICROSOFT-CDO-ALLDAYEVENT:FALSE
SUMMARY:Let's Build a Flower Tower!
DESCRIPTION:Get your patio looking great this summer with a flower tower!? Washington County Master Gardeners Pam Moris and Patty Medlicott will explain what is needed for materials and then will demonstrate how to build and plant a flowering tower. Afterwards\, they will answer questions. \n\n\n\n \n\n\n\nSpace is limited\; registration is required. An email will be sent after registration with the Zoom meeting details. If you are new to Zoom\, see these instructions on how to get started.
X-ALT-DESC;FMTTYPE=text/html:<div>\n<p><span style="background-color:transparent\; font-family:calibri\,calibri_msfontservice\,sans-serif\; font-size:11pt">Get your patio looking great this summer with a flower tower!? Washington County Master Gardeners Pam Moris and Patty Medlicott will explain what is needed for materials and then will demonstrate how to build and plant a flowering tower. Afterwards\, they will answer questions.</span><span style="font-family:calibri\,calibri_msfontservice\,sans-serif\; font-size:11pt">&nbsp\;</span></p>\n</div>\n\n<div>\n<p><span style="color:windowtext\; font-family:calibri\,calibri_msfontservice\,sans-serif\; font-size:11pt">&nbsp\;</span></p>\n</div>\n\n<div>\n<p><span style="background-color:transparent\; font-family:calibri\,calibri_msfontservice\,sans-serif\; font-size:11pt">Space is limited\; registration is required. An email will be sent after registration with the Zoom meeting details. If you are new to Zoom\, see these instructions on how to get started.</span><span style="font-family:calibri\,calibri_msfontservice\,sans-serif\; font-size:11pt">&nbsp\;</span></p>\n</div>\n
LOCATION:Online - registration required
UID:e.257.34568
SEQUENCE:3
DTSTAMP:20260424T041935Z
URL:https://greaterstillwaterchamber.com/events/details/let-s-build-a-flower-tower-34568
END:VEVENT

END:VCALENDAR
