BEGIN:VCALENDAR
VERSION:2.0
PRODID:-//ChamberMaster//Event Calendar 2.0//EN
METHOD:PUBLISH
X-PUBLISHED-TTL:P3D
REFRESH-INTERVAL:P3D
CALSCALE:GREGORIAN
BEGIN:VEVENT
DTSTART:20200926T230000Z
DTEND:20200927T010000Z
X-MICROSOFT-CDO-ALLDAYEVENT:FALSE
SUMMARY:Kevin Kling and Simone Perrin
DESCRIPTION:Kevin Kling and Simone Perrin have created a performance tailor-made for a beautiful Stillwater evening. Featuring humor\, stories\, great music and a tender moment now and again\, Kevin and Simone are thrilled to be back on stage this month at The Zephyr Theatre. Kevin Kling is best known for his popular commentaries on National Public Radio's "All Things Considered" and his storytelling stage shows. His tales are as enchanting as they are true to life whether hopping freight trains\, getting hit by lightning\, or eating things before knowing what they are. Simone Perrin\, actress\, vocalist and accordionista has performed throughout the country\, including "A Prairie Home Companion"\, and joins Kevin frequently to stir things up and get the joint jumping.
X-ALT-DESC;FMTTYPE=text/html:Kevin Kling and Simone Perrin have created a performance tailor-made for a beautiful Stillwater evening. Featuring humor\, stories\, great music and a tender moment now and again\, Kevin and Simone are thrilled to be back on stage this month at The Zephyr Theatre. Kevin Kling is best known for his popular commentaries on National Public Radio&rsquo\;s &ldquo\;All Things Considered&rdquo\; and his storytelling stage shows. His tales are as enchanting as they are true to life whether hopping freight trains\, getting hit by lightning\, or eating things before knowing what they are. Simone Perrin\, actress\, vocalist and accordionista has performed throughout the country\, including &ldquo\;A Prairie Home Companion&rdquo\;\, and joins Kevin frequently to stir things up and get the joint jumping.
LOCATION:The Zephyr Theatre\, Stillwater\, MN
UID:e.257.31476
SEQUENCE:3
DTSTAMP:20260421T164347Z
URL:https://greaterstillwaterchamber.com/events/details/kevin-kling-and-simone-perrin-31476
END:VEVENT

END:VCALENDAR
